BEGIN:VCALENDAR
VERSION:2.0
PRODID:-//ChamberMaster//Event Calendar 2.0//EN
METHOD:PUBLISH
X-PUBLISHED-TTL:P3D
REFRESH-INTERVAL:P3D
CALSCALE:GREGORIAN
BEGIN:VEVENT
DTSTART:20170909T190000Z
DTEND:20170910T000000Z
X-MICROSOFT-CDO-ALLDAYEVENT:FALSE
SUMMARY:Brady's World Famous Oyster Feed
DESCRIPTION:Oysters served every way you love them! Proceeds benefit clean water and scholarships.
X-ALT-DESC;FMTTYPE=text/html:Oysters served every way you love them! Proceeds benefit clean water and scholarships.
LOCATION:Brays Oysters 3714 Oyster Place Aberdeen\, WA
UID:e.26.7614
SEQUENCE:3
DTSTAMP:20260425T213816Z
URL:https://chamber.graysharbor.org/events/details/brady-s-world-famous-oyster-feed-7614
END:VEVENT

END:VCALENDAR
