BEGIN:VCALENDAR
VERSION:2.0
PRODID:-//ChamberMaster//Event Calendar 2.0//EN
METHOD:PUBLISH
X-PUBLISHED-TTL:P3D
REFRESH-INTERVAL:P3D
CALSCALE:GREGORIAN
BEGIN:VEVENT
DTSTART:20181223T163000Z
DTEND:20181223T183000Z
X-MICROSOFT-CDO-ALLDAYEVENT:FALSE
SUMMARY:Breakfast with Santa at Mill 109
DESCRIPTION:Santa returns to Mill 109 for a morning of tasty breakfast and fun from 830-1030. Two limited availability seatings at 830 and 930\, seating 30 each. Give the Mill a call at 360-276-4884 to reserve. Walk ins welcome if availability allows. Full buffet breakfast for $20 for adults and $10 for kids under 12. Pictures are FREE (!!) and will be distributed via the Mill 109 Facebook page.
X-ALT-DESC;FMTTYPE=text/html:<span style="caret-color: rgb(29\, 33\, 41)\; color: rgb(29\, 33\, 41)\; font-family: system-ui\, -apple-system\, BlinkMacSystemFont\, &quot\;.SFNSText-Regular&quot\;\, sans-serif\; font-size: 14px\; background-color: rgb(255\, 255\, 255)\;">Santa returns to Mill 109 for a morning of tasty breakfast and fun from 830-1030. Two limited availability seatings at 830 and 930\, seating 30 each. Give the Mill a call at 360-276-4884 to reserve. Walk ins welcome if availability allows. Full buffet breakfast for $20 for adults and $10 for kids under 12. Pictures are FREE (!!) and will be distributed via the Mill 109 Facebook page.</span>
LOCATION:Mill 109 Seabrook Pacific Beach\, WA
UID:e.26.11371
SEQUENCE:3
DTSTAMP:20260424T210650Z
URL:https://chamber.graysharbor.org/events/details/breakfast-with-santa-at-mill-109-11371
END:VEVENT

END:VCALENDAR
