BEGIN:VCALENDAR
VERSION:2.0
PRODID:-//ChamberMaster//Event Calendar 2.0//EN
METHOD:PUBLISH
X-PUBLISHED-TTL:P3D
REFRESH-INTERVAL:P3D
CALSCALE:GREGORIAN
BEGIN:VEVENT
DTSTART:20180224T170000Z
DTEND:20180224T190000Z
X-MICROSOFT-CDO-ALLDAYEVENT:FALSE
SUMMARY:Breakfast with the Super Heroes!
DESCRIPTION:Mill 109 | 9 - 11am \n \n\nCome join us at Mill 109 for a SUPER morning! Eat breakfast with some of your favorite super heroes! \n\n \n\nAdults $15 | Kids $12
X-ALT-DESC;FMTTYPE=text/html:<span style="color: rgb(57\, 79\, 90)\; font-family: Ubuntu\, arial\, sans-serif\; font-size: 14px\; background-color: rgb(246\, 247\, 247)\;">Mill 109 | 9 - 11am&nbsp\;</span>\n<div style="margin: 0px\; outline: none 0px\; padding: 0px\; color: rgb(57\, 79\, 90)\; font-family: Ubuntu\, arial\, sans-serif\; font-size: 14px\; background-color: rgb(246\, 247\, 247)\;">&nbsp\;</div>\n\n<div style="margin: 0px\; outline: none 0px\; padding: 0px\; color: rgb(57\, 79\, 90)\; font-family: Ubuntu\, arial\, sans-serif\; font-size: 14px\; background-color: rgb(246\, 247\, 247)\;">Come join us at Mill 109 for a SUPER morning! Eat breakfast with some of your favorite super heroes!&nbsp\;</div>\n\n<div style="margin: 0px\; outline: none 0px\; padding: 0px\; color: rgb(57\, 79\, 90)\; font-family: Ubuntu\, arial\, sans-serif\; font-size: 14px\; background-color: rgb(246\, 247\, 247)\;">&nbsp\;</div>\n\n<div style="margin: 0px\; outline: none 0px\; padding: 0px\; color: rgb(57\, 79\, 90)\; font-family: Ubuntu\, arial\, sans-serif\; font-size: 14px\; background-color: rgb(246\, 247\, 247)\;">Adults $15 | Kids $12</div>\n
LOCATION:Mill 109 Seabrook Pacific Beach\, WA
UID:e.26.9525
SEQUENCE:3
DTSTAMP:20260425T132639Z
URL:https://chamber.graysharbor.org/events/details/breakfast-with-the-super-heroes-9525
END:VEVENT

END:VCALENDAR
