BEGIN:VCALENDAR
VERSION:2.0
PRODID:-//ChamberMaster//Event Calendar 2.0//EN
METHOD:PUBLISH
X-PUBLISHED-TTL:P3D
REFRESH-INTERVAL:P3D
CALSCALE:GREGORIAN
BEGIN:VEVENT
DTSTART:20130206T180000Z
DTEND:20130206T190000Z
X-MICROSOFT-CDO-ALLDAYEVENT:FALSE
SUMMARY:Breastfeeding support
DESCRIPTION:La Leche League is an international\, nonprofit\, nonsectarian organization dedicated to providing education\, information\, support\, and encouragement to women who want to breastfeed. All women interested in breastfeeding are welcome to attend the monthly Group Meetings on the first Wednesday of each month. Pregnant and nursing mothers are welcome.
X-ALT-DESC;FMTTYPE=text/html:<style type="text/css">\n</style>\n<span apple="" century="" new="" style="font-size: 12pt\; mso-bidi-font-size: 8.0pt" times="">La Leche League is an international\, nonprofit\, nonsectarian organization dedicated to providing education\, information\, support\, and encouragement to women who want to breastfeed. All women interested in breastfeeding are welcome to attend the monthly Group Meetings on the first Wednesday of each month. Pregnant and nursing mothers are welcome.&nbsp\;</span> 
LOCATION:Aberdeen Timberland Library at 121 E Market St Aberdeen
UID:e.26.2539
SEQUENCE:3
DTSTAMP:20260420T172040Z
URL:https://chamber.graysharbor.org/events/details/breastfeeding-support-02-06-2013-2539
END:VEVENT

END:VCALENDAR
