BEGIN:VCALENDAR
VERSION:2.0
PRODID:-//ChamberMaster//Event Calendar 2.0//EN
METHOD:PUBLISH
X-PUBLISHED-TTL:P3D
REFRESH-INTERVAL:P3D
CALSCALE:GREGORIAN
BEGIN:VEVENT
DTSTART:20171009T023000Z
DTEND:20171009T040000Z
X-MICROSOFT-CDO-ALLDAYEVENT:FALSE
SUMMARY:Bride of Frankenstein (1935)
DESCRIPTION:Bride of Frankenstein (1935)\n\nOctober 7 @ 7:30 & October 8 @ 2 pm \n\nTickets are $6.\n\nTickets are available at Crown Drug\, Harbor Drug\, City Drug\, online\, and at the door 30 minutes before the show.\n\n\n\nDr. Frankenstein and his monster both turn out to be alive\, not killed as previously believed. Dr. Frankenstein wants to get out of the evil experiment business\, but when a mad scientist\, Dr. Pretorius\, kidnaps his wife\, Dr. Frankenstein agrees to help him create a new creature\, a woman\, to be the companion of the monster.\n\n\n\nStarring Boris Karloff\, Elsa Lanchester\, and Colin Clive.\n\n\n\nLocally sponsored by Coleman Mortuary\, Wunderland Childcare\, Pasha Automotive Services\, Jodesha Broadcasting and Alpha Media Grays Harbor.\n\n\n\n	Film\n	Kid Friendly
X-ALT-DESC;FMTTYPE=text/html:<h1 class="_5gmx" data-testid="event-permalink-event-name" id="seo_h1_tag" style="color: rgb(29\, 33\, 41)\; font-size: 20px\; margin: 0px 12px 0px 0px\; padding: 0px\; font-weight: normal\; line-height: 28px\; font-family: Helvetica\, Arial\, sans-serif\; background-color: rgb(255\, 255\, 255)\;">Bride of Frankenstein (1935)</h1>\n\n<div class="_2qgs" style="color: rgb(75\, 79\, 86)\; padding: 12px\; position: relative\; border-top: none\; font-family: Helvetica\, Arial\, sans-serif\; font-size: 12px\;"><span class="_4n-j _fbReactionComponent__eventDetailsContentTags fsl" data-testid="event-permalink-details" style="font-size: 14px\; font-family: inherit\;">October 7 @ 7:30 &amp\; October 8 @ 2 pm&nbsp\;<br />\nTickets are $6.<br />\nTickets are available at Crown Drug\, Harbor Drug\, City Drug\, online\, and at the door 30 minutes before the show.<br />\n<br />\nDr. Frankenstein and his monster both turn out to be alive\, not killed as previously believed. Dr. Frankenstein wants to get out of the evil experiment business\, but when a mad scientist\, Dr. Pretorius\, kidnaps his wife\, Dr. Frankenstein agrees to help him create a new creature\, a woman\, to be the companion of the monster.<br />\n<br />\nStarring Boris Karloff\, Elsa Lanchester\, and Colin Clive.<br />\n<br />\nLocally sponsored by Coleman Mortuary\, Wunderland Childcare\, Pasha Automotive Services\, Jodesha Broadcasting and Alpha Media Grays Harbor.</span></div>\n\n<div class="_1r51" style="line-height: 24px\; margin: 4px 12px 12px\; min-height: 24px\; font-family: Helvetica\, Arial\, sans-serif\; color: rgb(29\, 33\, 41)\; font-size: 12px\;">\n<ul class="uiList uiCollapsedList uiCollapsedListHidden _509- _4ki" id="u_jsonp_14_o" style="list-style-type: none\; margin: 0px\; padding: 0px\;">\n	<li style="border-width: 0px\; display: inline-block\; vertical-align: top\;"><a href="https://www.facebook.com/events/discovery/?acontext=%7B%22ref%22%3A44%2C%22unit_ref%22%3A%22related_events%22%2C%22source%22%3A1%2C%22action_history%22%3A%22%5B%7B%5C%22surface%5C%22%3A%5C%22permalink%5C%22%2C%5C%22mechanism%5C%22%3A%5C%22RHC%5C%22%2C%5C%22extra_data%5C%22%3A%5B%5D%7D%2C%7B%5C%22surface%5C%22%3A%5C%22permalink%5C%22%2C%5C%22mechanism%5C%22%3A%5C%22surface%5C%22%2C%5C%22extra_data%5C%22%3A%5B%5D%7D%2C%7B%5C%22surface%5C%22%3A%5C%22permalink%5C%22%2C%5C%22mechanism%5C%22%3A%5C%22event_information%5C%22%2C%5C%22extra_data%5C%22%3A%7B%5C%22tag%5C%22%3A%5C%22Film%5C%22%7D%7D%5D%22%2C%22has_source%22%3Atrue%7D&amp\;suggestion_token=%7B%22event_categories%22%3A%5B392955781081975%5D%7D" style="color: rgb(54\, 88\, 153)\; cursor: pointer\; text-decoration-line: none\; font-family: inherit\;"><span class="_47od" style="background-color: rgb(237\, 242\, 250)\; border-radius: 2px\; color: rgb(32\, 55\, 95)\; display: block\; height: 14px\; line-height: 14px\; margin: 0px 4px 4px 0px\; padding: 4px 6px\; position: relative\; font-family: inherit\;">Film</span></a></li>\n	<li style="border-width: 0px 0px 0px 1px\; display: inline-block\; vertical-align: top\;"><a href="https://www.facebook.com/events/discovery/?acontext=%7B%22ref%22%3A44%2C%22unit_ref%22%3A%22related_events%22%2C%22source%22%3A1%2C%22action_history%22%3A%22%5B%7B%5C%22surface%5C%22%3A%5C%22permalink%5C%22%2C%5C%22mechanism%5C%22%3A%5C%22RHC%5C%22%2C%5C%22extra_data%5C%22%3A%5B%5D%7D%2C%7B%5C%22surface%5C%22%3A%5C%22permalink%5C%22%2C%5C%22mechanism%5C%22%3A%5C%22surface%5C%22%2C%5C%22extra_data%5C%22%3A%5B%5D%7D%2C%7B%5C%22surface%5C%22%3A%5C%22permalink%5C%22%2C%5C%22mechanism%5C%22%3A%5C%22event_information%5C%22%2C%5C%22extra_data%5C%22%3A%7B%5C%22tag%5C%22%3A%5C%22Kid+Friendly%5C%22%7D%7D%5D%22%2C%22has_source%22%3Atrue%7D&amp\;suggestion_token=%7B%22event_flags%22%3A%5B%22family_friendly%22%5D%7D" style="color: rgb(54\, 88\, 153)\; cursor: pointer\; text-decoration-line: none\; font-family: inherit\;"><span class="_47od" style="background-color: rgb(237\, 242\, 250)\; border-radius: 2px\; color: rgb(32\, 55\, 95)\; display: block\; height: 14px\; line-height: 14px\; margin: 0px 4px 4px 0px\; padding: 4px 6px\; position: relative\; font-family: inherit\;">Kid Friendly</span></a></li>\n</ul>\n</div>\n
LOCATION:7th St. Theatre 7th Street Hoquiam WA
UID:e.26.8242
SEQUENCE:3
DTSTAMP:20260425T213505Z
URL:https://chamber.graysharbor.org/events/details/bride-of-frankenstein-1935-10-08-2017-8242
END:VEVENT

END:VCALENDAR
