BEGIN:VCALENDAR
VERSION:2.0
PRODID:-//ChamberMaster//Event Calendar 2.0//EN
METHOD:PUBLISH
X-PUBLISHED-TTL:P3D
REFRESH-INTERVAL:P3D
CALSCALE:GREGORIAN
BEGIN:VEVENT
DTSTART:20181209T210000Z
DTEND:20181210T000000Z
X-MICROSOFT-CDO-ALLDAYEVENT:FALSE
SUMMARY:Bringing in the Yule Log | Holiday Sing-along
DESCRIPTION:Join the Friends of Schafer and Lake Sylvia (FOSLS) for their annual Yule Log hunt and holiday sing-along at Schafer State Park near Elma. If a glimpse into a simpler\, more old-fashioned kind of family holiday sparks your interest\, 'yule' love this fun event. Things start off with the kids hunting for the hidden yule log and then dragging it back to the park's bonfire area to chop up with an ax (adult supervised\, of course) and putting it in the fire. Enjoy great food and singing afterwards.
X-ALT-DESC;FMTTYPE=text/html:<span style="caret-color: rgb(29\, 33\, 41)\; color: rgb(29\, 33\, 41)\; font-family: system-ui\, -apple-system\, BlinkMacSystemFont\, &quot\;.SFNSText-Regular&quot\;\, sans-serif\; font-size: 14px\; background-color: rgb(255\, 255\, 255)\;">Join the Friends of Schafer and Lake Sylvia (FOSLS) for their annual Yule Log hunt and holiday sing-along at Schafer State Park near Elma. If a glimpse into a simpler\, more old-fashioned kind of family holiday sparks your interest\, &#39\;yule&#39\; love this fun event. Things start off with the kids hunting for the hidden yule log and then dragging it back to the park&rsquo\;s bonfire area to chop up with an ax (adult supervised\, of course) and putting it in the fire. Enjoy great food and singing afterwards.</span>
LOCATION:Schafer State Park Elma\, WA
UID:e.26.11362
SEQUENCE:3
DTSTAMP:20260424T224401Z
URL:https://chamber.graysharbor.org/events/details/bringing-in-the-yule-log-holiday-sing-along-11362
END:VEVENT

END:VCALENDAR
