BEGIN:VCALENDAR
VERSION:2.0
PRODID:-//ChamberMaster//Event Calendar 2.0//EN
METHOD:PUBLISH
X-PUBLISHED-TTL:P3D
REFRESH-INTERVAL:P3D
CALSCALE:GREGORIAN
BEGIN:VEVENT
DTSTART:20190216T010000Z
DTEND:20190216T050000Z
X-MICROSOFT-CDO-ALLDAYEVENT:FALSE
SUMMARY:Broadside Wine Dinner
DESCRIPTION:Mr. Ben Clark comes back to the beach\, this time for a four course dinner with incredible California Winery\, Broadside. Come on out and celebrate the Valentines Day weekend with amazing food\, wine and conversation. Menu and wine list will be coming shortly!
X-ALT-DESC;FMTTYPE=text/html:<span style="caret-color: rgb(29\, 33\, 41)\; color: rgb(29\, 33\, 41)\; font-family: system-ui\, -apple-system\, BlinkMacSystemFont\, &quot\;.SFNSText-Regular&quot\;\, sans-serif\; font-size: 14px\; white-space: pre-wrap\; background-color: rgb(255\, 255\, 255)\;">Mr. Ben Clark comes back to the beach\, this time for a four course dinner with incredible California Winery\, Broadside. Come on out and celebrate the Valentines Day weekend with amazing food\, wine and conversation. Menu and wine list will be coming shortly!</span>
LOCATION:Ocean Beach Roasters & Bistro 841 Point Brown Ave. SW Ocean Shores\, WA
UID:e.26.11750
SEQUENCE:3
DTSTAMP:20260424T194243Z
URL:https://chamber.graysharbor.org/events/details/broadside-wine-dinner-11750
END:VEVENT

END:VCALENDAR
