BEGIN:VCALENDAR
VERSION:2.0
PRODID:-//ChamberMaster//Event Calendar 2.0//EN
METHOD:PUBLISH
X-PUBLISHED-TTL:P3D
REFRESH-INTERVAL:P3D
CALSCALE:GREGORIAN
BEGIN:VEVENT
DTSTART:20190101T040000Z
DTEND:20190101T090000Z
X-MICROSOFT-CDO-ALLDAYEVENT:FALSE
SUMMARY:Broken Sky New Year’s Eve
DESCRIPTION:The Montesano Moose Lodge is saying farewell to 2018 and hello to 2019 with a live performance by Broken Sky. They will be playing classic rock all night long and all are welcome. A member can sign you in.
X-ALT-DESC;FMTTYPE=text/html:<span style="caret-color: rgb(34\, 34\, 34)\; color: rgb(34\, 34\, 34)\; font-family: Verdana\, Geneva\, sans-serif\; font-size: 15px\; background-color: rgb(255\, 255\, 255)\;">The Montesano Moose Lodge is saying farewell to 2018 and hello to 2019 with a live performance by Broken Sky. They will be playing classic rock all night long and all are welcome. A member can sign you in.&nbsp\;</span>
LOCATION:Montesano Moose Lodge 3 Monte-Elma Rd. Montesano
UID:e.26.11393
SEQUENCE:3
DTSTAMP:20260424T210638Z
URL:https://chamber.graysharbor.org/events/details/broken-sky-new-year-s-eve-11393
END:VEVENT

END:VCALENDAR
