BEGIN:VCALENDAR
VERSION:2.0
PRODID:-//ChamberMaster//Event Calendar 2.0//EN
METHOD:PUBLISH
X-PUBLISHED-TTL:P3D
REFRESH-INTERVAL:P3D
CALSCALE:GREGORIAN
BEGIN:VEVENT
DTSTART:20190828T160000Z
DTEND:20190828T170000Z
X-MICROSOFT-CDO-ALLDAYEVENT:FALSE
SUMMARY:Brunch 101 Ribbon Cutting
DESCRIPTION:The Greater Grays Harbor\, Inc. Ambassador Team will be at the recently reopened Brunch 101 on Wednesday\, August 28th at 9 am for a ribbon cutting! This locally owned restaurant is located at 716 Simpson Ave in Hoquiam.\n\n\n\n \n\n\n\nPlease come help us officially welcome them to the community and then grab a bite to eat off of their carefully crafted menu once the ribbon cutting concludes. We hope to see you there!
X-ALT-DESC;FMTTYPE=text/html:<div data-block="true" data-editor="efipq" data-offset-key="bde42-0-0" style="font-family: system-ui\, -apple-system\, BlinkMacSystemFont\, &quot\;.SFNSText-Regular&quot\;\, sans-serif\; caret-color: rgb(28\, 30\, 33)\; color: rgb(28\, 30\, 33)\; font-size: 12px\; white-space: pre-wrap\;">\n<div class="_1mf _1mj" data-offset-key="bde42-0-0" style="position: relative\; direction: ltr\; font-family: inherit\;"><span style="font-size:14px\;"><span data-offset-key="bde42-0-0">The Greater Grays Harbor\, Inc. Ambassador Team will be at the recently reopened Brunch 101 on Wednesday\, August 28th at 9 am for a ribbon cutting! This locally owned restaurant is located at 716 Simpson Ave in Hoquiam.</span></span></div>\n</div>\n\n<div data-block="true" data-editor="efipq" data-offset-key="6htbf-0-0" style="font-family: system-ui\, -apple-system\, BlinkMacSystemFont\, &quot\;.SFNSText-Regular&quot\;\, sans-serif\; caret-color: rgb(28\, 30\, 33)\; color: rgb(28\, 30\, 33)\; font-size: 12px\; white-space: pre-wrap\;">\n<div class="_1mf _1mj" data-offset-key="6htbf-0-0" style="position: relative\; direction: ltr\; font-family: inherit\;">&nbsp\;</div>\n</div>\n\n<div data-block="true" data-editor="efipq" data-offset-key="731n4-0-0" style="font-family: system-ui\, -apple-system\, BlinkMacSystemFont\, &quot\;.SFNSText-Regular&quot\;\, sans-serif\; caret-color: rgb(28\, 30\, 33)\; color: rgb(28\, 30\, 33)\; font-size: 12px\; white-space: pre-wrap\;">\n<div class="_1mf _1mj" data-offset-key="731n4-0-0" style="position: relative\; direction: ltr\; font-family: inherit\;"><span style="font-size:14px\;"><span data-offset-key="731n4-0-0">Please come help us officially welcome them to the community and then grab a bite to eat off of their carefully crafted menu once the ribbon cutting concludes. We hope to see you there!</span></span></div>\n</div>\n
LOCATION:Brunch 101 716 Simpson Ave Hoquiam\, WA
UID:e.26.12165
SEQUENCE:3
DTSTAMP:20260424T090056Z
URL:https://chamber.graysharbor.org/events/details/brunch-101-ribbon-cutting-12165
END:VEVENT

END:VCALENDAR
