BEGIN:VCALENDAR
VERSION:2.0
PRODID:-//ChamberMaster//Event Calendar 2.0//EN
METHOD:PUBLISH
X-PUBLISHED-TTL:P3D
REFRESH-INTERVAL:P3D
CALSCALE:GREGORIAN
BEGIN:VEVENT
DTSTART:20190714T190000Z
DTEND:20190714T230000Z
X-MICROSOFT-CDO-ALLDAYEVENT:FALSE
SUMMARY:Bubba Mullikin Memorial Disc Golf Putting Tournament
DESCRIPTION:Come celebrate and remember Austin James Mullikin with this memorial disc golf competition located at Westport Winery.\n\nAll are welcome and there's TWO ways to play! Competitive players check in at noon\, shotgun at 1pm. It's $25 per person for 9 hole play and a memorial putter. Family teams check in at 1pm\, shotgun at 2pm. Family play includes 4 Fun Discs and 9 hole of play for a family of 4 for $25\, must have at least 1 adult but maximum of 2 on a team.\n\nThere will be awards for the top three players plus a 50/50 raffle. All ages are welcome and whether playing or spectating there will be lots of fun! There will also be a food truck\, snacks\, wine\, beer\, soda\, and water. To top it all off we will have a DJ to keep the party bumping! All proceeds will go to a scholarship in Bubba Mullikins honor.
X-ALT-DESC;FMTTYPE=text/html:<font color="#1d2129" face="system-ui\, -apple-system\, BlinkMacSystemFont\, .SFNSText-Regular\, sans-serif"><span style="caret-color: rgb(29\, 33\, 41)\; font-size: 14px\; white-space: pre-wrap\;">Come celebrate and remember Austin James Mullikin with this memorial disc golf competition located at Westport Winery.<br />\nAll are welcome and there&rsquo\;s TWO ways to play! Competitive players check in at noon\, shotgun at 1pm. It&rsquo\;s $25 per person for 9 hole play and a memorial putter. Family teams check in at 1pm\, shotgun at 2pm. Family play includes 4 Fun Discs and 9 hole of play for a family of 4 for $25\, must have at least 1 adult but maximum of 2 on a team.<br />\nThere will be awards for the top three players plus a 50/50 raffle. All ages are welcome and whether playing or spectating there will be lots of fun! There will also be a food truck\, snacks\, wine\, beer\, soda\, and water. To top it all off we will have a DJ to keep the party bumping! All proceeds will go to a scholarship in Bubba Mullikins honor. </span></font>
LOCATION:Westport Winery Aberdeen\, WA
UID:e.26.12056
SEQUENCE:3
DTSTAMP:20260424T104330Z
URL:https://chamber.graysharbor.org/events/details/bubba-mullikin-memorial-disc-golf-putting-tournament-12056
END:VEVENT

END:VCALENDAR
