BEGIN:VCALENDAR
VERSION:2.0
PRODID:-//ChamberMaster//Event Calendar 2.0//EN
METHOD:PUBLISH
X-PUBLISHED-TTL:P3D
REFRESH-INTERVAL:P3D
CALSCALE:GREGORIAN
BEGIN:VEVENT
DTSTART;VALUE=DATE:20170728
DTEND;VALUE=DATE:20170731
TRANSP:TRANSPARENT
X-MICROSOFT-CDO-ALLDAYEVENT:TRUE
SUMMARY:Bugsy Malone - 7th St. Kids
DESCRIPTION:July 28 & 29 @ 7:30 PM\n\nJuly 30 @ 2:00 PM\n\n\n\nTickets are $15/Adults\, $10 Senior or Student W/ ID\, & Children (12 & Under) $5.\n\n\n\nTickets are available online or at the door 1 hour prior to the curtain time.\n\n\n\n7th Street Kids present Bugsy Malone. Based on the hit 1976 film featuring a catchy\, swinging score by the composer of The Muppet Movie\, Bugsy Malone is good\, clean\, comedic fun!\n\n\n\nTwo gangs comprised completely of children\, square off in a 1920s rivalry of Capone-ian standards. Dandy Dan's gang has gotten the upper hand since obtaining the "splurge" gun (a weapon that shoots whipped cream). Now\, Fat Sam and his bumbling buffoons are in real trouble! Bugsy Malone\, a one-time boxer\, is thrust not-so-willingly into the gangster limelight when he becomes the last chance that Fat Sam's gang has of surviving. All Bugsy really wants to do is spend time with his new love\, Blousey\, but that just isn't in the cards for our hero.
X-ALT-DESC;FMTTYPE=text/html:<span class="_4n-j _fbReactionComponent__eventDetailsContentTags fsl" data-testid="event-permalink-details">July 28 &amp\; 29 @ 7:30 PM<br />\nJuly 30 @ 2:00 PM<br />\n<br />\nTickets are $15/Adults\, $10 Senior or Student W/ ID\, &amp\; Children (12 &amp\; Under) $5.<br />\n<br />\nTickets are available online or at the door 1 hour prior to the curtain time.<br />\n<br />\n7th Street Kids present Bugsy Malone. Based on the hit 1976 film featuring a catchy\, swinging score by the composer of The Muppet Movie\, Bugsy Malone is good\, clean\, comedic fun!<br />\n<br />\nTwo gangs comprised completely of children\, square off in a 1920s rivalry of Capone-ian standards. Dandy Dan&rsquo\;s gang has gotten the upper hand since obtaining the &ldquo\;splurge&rdquo\; gun (a weapon that shoots whipped cream). Now\, Fat Sam and his bumbling buffoons are in real trouble! Bugsy Malone\, a one-time boxer\, is thrust not-so-willingly into the gangster limelight when he becomes the last chance that Fat Sam&rsquo\;s gang has of surviving. All Bugsy really wants to do is spend time with his new love\, Blousey\, but that just isn&rsquo\;t in the cards for our hero.</span>
LOCATION:7th Street Theatre Hoquiam\, WA
UID:e.26.7712
SEQUENCE:3
DTSTAMP:20260426T002941Z
URL:https://chamber.graysharbor.org/events/details/bugsy-malone-7th-st-kids-7712
END:VEVENT

END:VCALENDAR
