BEGIN:VCALENDAR
VERSION:2.0
PRODID:-//ChamberMaster//Event Calendar 2.0//EN
METHOD:PUBLISH
X-PUBLISHED-TTL:P3D
REFRESH-INTERVAL:P3D
CALSCALE:GREGORIAN
BEGIN:VEVENT
DTSTART:20200410T010000Z
DTEND:20200410T023000Z
X-MICROSOFT-CDO-ALLDAYEVENT:FALSE
SUMMARY:Build\, Engage\, Monetize: How Social Media Can Boost Your Business\, Despite Covid-19
DESCRIPTION:If you feel Covid-19 has taken your business out of your control or if you're frustrated with marketing and social media\, this webinar can help take you from a reactive online presence to one that is intentional and proactive. Learn from Juniper Tree's Chelsea Royer on how to build up your business AND an online community in a way that will help boost and monetize your social media - even if your doors are closed. Despite current setbacks\, you CAN take back control and utilize your online presence to help you hit the ground running when the doors reopen. \n\n \nWho will benefit from this webinar?\n\n\n	Restaurant/bar owners who are shut down or operating via takeout\n	Coffee shop/bakery owners\n	Retail shop owners\n	Owners of service based businesses (mechanics\, yard maintenance\, plumbers\, cleaning\, etc)\n	Owners of handmade or product based businesses they run from home\n	Family owned farms\n	Owners of small markets or hobby shops\n	Any business owner who relies on a loyal customer base or relationships to make sales\n\nRSVP through our Smore flyer by clicking here!
X-ALT-DESC;FMTTYPE=text/html:<span style="font-size:16px\;"><span style="font-family:arial\;"><span style="caret-color: rgb(34\, 34\, 34)\; color: rgb(34\, 34\, 34)\;">If you feel Covid-19 has taken your business out of your control or if you&#39\;re frustrated with marketing and social media\, this webinar can help take you from a reactive online presence to one that is intentional and proactive. Learn from <a href="https://www.junipertreephotography.com">Juniper Tree</a>&#39\;s Chelsea Royer on how to build up your business AND an online community in a way that will help boost and monetize your social media - even if your doors are closed. Despite current setbacks\, you CAN take back control and utilize your online presence to help you hit the ground running when the doors reopen.&nbsp\;</span></span></span><br />\n&nbsp\;\n<p style="margin: 0px\; padding: 0px\; caret-color: rgb(0\, 0\, 0)\; color: rgb(0\, 0\, 0)\; font-family: Roboto\, &quot\;Lucida Grande&quot\;\, arial\, sans-serif\; font-size: 14px\;"><span style="font-size:16px\;"><span style="font-family:arial\;"><span style="font-style: inherit\; font-weight: 700\;"><span style="font-style: italic\; font-weight: inherit\;">Who will benefit from this webinar?</span></span></span></span></p>\n\n<ul style="margin: 0px\; padding-right: 0px\; padding-left: 30px\; caret-color: rgb(0\, 0\, 0)\; color: rgb(0\, 0\, 0)\; font-family: Roboto\, &quot\;Lucida Grande&quot\;\, arial\, sans-serif\; font-size: 14px\;">\n	<li style="margin: 0px\; padding: 0px\; list-style: disc\;"><span style="font-size:16px\;"><span style="font-family:arial\;">Restaurant/bar owners who are shut down or operating via takeout</span></span></li>\n	<li style="margin: 0px\; padding: 0px\; list-style: disc\;"><span style="font-size:16px\;"><span style="font-family:arial\;">Coffee shop/bakery owners</span></span></li>\n	<li style="margin: 0px\; padding: 0px\; list-style: disc\;"><span style="font-size:16px\;"><span style="font-family:arial\;">Retail shop owners</span></span></li>\n	<li style="margin: 0px\; padding: 0px\; list-style: disc\;"><span style="font-size:16px\;"><span style="font-family:arial\;">Owners of service based businesses (mechanics\, yard maintenance\, plumbers\, cleaning\, etc)</span></span></li>\n	<li style="margin: 0px\; padding: 0px\; list-style: disc\;"><span style="font-size:16px\;"><span style="font-family:arial\;">Owners of handmade or product based businesses they run from home</span></span></li>\n	<li style="margin: 0px\; padding: 0px\; list-style: disc\;"><span style="font-size:16px\;"><span style="font-family:arial\;">Family owned farms</span></span></li>\n	<li style="margin: 0px\; padding: 0px\; list-style: disc\;"><span style="font-size:16px\;"><span style="font-family:arial\;">Owners of small markets or hobby shops</span></span></li>\n	<li style="margin: 0px\; padding: 0px\; list-style: disc\;"><span style="font-size:16px\;"><span style="font-family:arial\;"><u>Any business owner who relies on a loyal customer base or relationships to make sales</u></span></span></li>\n</ul>\n<span style="font-size:16px\;"><span style="font-family:arial\;"><span style="caret-color: rgb(34\, 34\, 34)\;"><strong><em><u><a href="https://www.smore.com/xcnt1-build-engage-monetize"><span style="color:#FF0000\;">RSVP through our Smore&nbsp\;</span></a></u></em></strong></span></span></span><strong><em><u><a href="https://www.smore.com/xcnt1-build-engage-monetize"><span style="color:#FF0000\;"><font face="arial" size="3"><span style="caret-color: rgb(34\, 34\, 34)\;">flyer by clicking here!</span></font></span></a></u></em></strong>
LOCATION:Zoom Meeting
UID:e.26.12462
SEQUENCE:3
DTSTAMP:20260424T074416Z
URL:https://chamber.graysharbor.org/events/details/build-engage-monetize-how-social-media-can-boost-your-business-despite-covid-19-12462
END:VEVENT

END:VCALENDAR
