BEGIN:VCALENDAR
VERSION:2.0
PRODID:-//ChamberMaster//Event Calendar 2.0//EN
METHOD:PUBLISH
X-PUBLISHED-TTL:P3D
REFRESH-INTERVAL:P3D
CALSCALE:GREGORIAN
BEGIN:VEVENT
DTSTART:20180214T013000Z
DTEND:20180214T030000Z
X-MICROSOFT-CDO-ALLDAYEVENT:FALSE
SUMMARY:Business After Hours
DESCRIPTION:February's GGHI Business After Hours will be hosted by Aberdeen's D.A. Davidson. Mingle with community members from throughout Grays Harbor at this free\, exciting monthly event. Enjoy a catered night hosted by one of Aberdeen's leading financial services holding companies. Their personal approach is rooted in the values\, stability\, and discipline of their 80-year-old employee-owned company that is as independent as you are. Business After Hours offers members and prospective members alike the chance to meet colleagues in an engaging and unique atmosphere. Each month our host presents the attendees with an opportunity to introduce their business or products in their own distinctive manner. There is sure to be great conversation and connecting at the February Business After Hours!
X-ALT-DESC;FMTTYPE=text/html:February&#39\;s GGHI Business After Hours will be hosted by Aberdeen&#39\;s D.A. Davidson. Mingle with community members from throughout Grays Harbor at this free\, exciting monthly event. Enjoy a catered night hosted by one of Aberdeen&#39\;s leading financial services holding companies. Their personal approach is rooted in the values\, stability\, and discipline of their 80-year-old employee-owned company that is as independent as you are. Business After Hours offers members and prospective members alike the chance to meet colleagues in an engaging and unique atmosphere. Each month our host presents the attendees with an opportunity to introduce their business or products in their own distinctive manner. There is sure to be great conversation and connecting at the February Business After Hours!
LOCATION:D.A. Davidson
UID:e.26.9488
SEQUENCE:3
DTSTAMP:20260425T132815Z
URL:https://chamber.graysharbor.org/events/details/business-after-hours-02-13-2018-9488
END:VEVENT

END:VCALENDAR
