BEGIN:VCALENDAR
VERSION:2.0
PRODID:-//ChamberMaster//Event Calendar 2.0//EN
METHOD:PUBLISH
X-PUBLISHED-TTL:P3D
REFRESH-INTERVAL:P3D
CALSCALE:GREGORIAN
BEGIN:VEVENT
DTSTART:20180314T003000Z
DTEND:20180314T020000Z
X-MICROSOFT-CDO-ALLDAYEVENT:FALSE
SUMMARY:Business After Hours
DESCRIPTION:Please join Greater Grays Harbor\, Inc. and our hosts American Cancer Society for the March Business After Hours. Come and see what makes this long standing organization a vital part of our Community. Network with community and business leaders\, and enjoy a relaxed evening. You will also hear from local cancer survivor Corinn Wohl.\n\nLocation: 954 Anderson Drive Aberdeen\, WA 98520
X-ALT-DESC;FMTTYPE=text/html:Please join Greater Grays Harbor\, Inc. and our hosts American Cancer Society for the March Business After Hours. Come and see what makes this long standing organization a vital part of our Community. Network with community and business leaders\, and enjoy a relaxed evening. You will also hear from local cancer survivor Corinn Wohl.<br />\n<u><strong>Location:</strong></u> 954 Anderson Drive Aberdeen\, WA 98520
LOCATION:954 Anderson Drive Aberdeen\, WA 98520
UID:e.26.9541
SEQUENCE:3
DTSTAMP:20260425T132801Z
URL:https://chamber.graysharbor.org/events/details/business-after-hours-03-13-2018-9541
END:VEVENT

END:VCALENDAR
