BEGIN:VCALENDAR
VERSION:2.0
PRODID:-//ChamberMaster//Event Calendar 2.0//EN
METHOD:PUBLISH
X-PUBLISHED-TTL:P3D
REFRESH-INTERVAL:P3D
CALSCALE:GREGORIAN
BEGIN:VEVENT
DTSTART:20180411T003000Z
DTEND:20180411T020000Z
X-MICROSOFT-CDO-ALLDAYEVENT:FALSE
SUMMARY:Business After Hours
DESCRIPTION:Organized by GGHI\, Business After Hours will be hosted by Cranberry Road Winery this April 10th. This is a fun event perfect for networking and meeting local community members in Grays Harbor.
X-ALT-DESC;FMTTYPE=text/html:Organized by GGHI\, Business After Hours will be hosted by Cranberry Road Winery this April 10th. This is a fun event perfect for networking and meeting local community members in Grays Harbor.&nbsp\;
LOCATION:Cranberry Road Winery Westport\, WA
UID:e.26.10579
SEQUENCE:3
DTSTAMP:20260425T113420Z
URL:https://chamber.graysharbor.org/events/details/business-after-hours-10579
END:VEVENT

END:VCALENDAR
