BEGIN:VCALENDAR
VERSION:2.0
PRODID:-//ChamberMaster//Event Calendar 2.0//EN
METHOD:PUBLISH
X-PUBLISHED-TTL:P3D
REFRESH-INTERVAL:P3D
CALSCALE:GREGORIAN
BEGIN:VEVENT
DTSTART:20180815T003000Z
DTEND:20180815T020000Z
X-MICROSOFT-CDO-ALLDAYEVENT:FALSE
SUMMARY:Business After Hours
DESCRIPTION:Come explore Oyhut Bay in Ocean Shores at the August Business After Hours!\n\n \n\nThe brand new beach homes are the center of this new walkable\, bikable village neighboring the 683-acre Oyhut Wildlife Recreation Area. Enjoy the newly opened Oyhut Bay Bistro and Lounge\, coffee and gift shop\, children's play area\, outdoor gas and wood fire pits\, and much more. The village's dock offers access to twenty-three miles of inland freshwater canals and lakes for fishing\, paddling\, kayaking\, and fun.\n\n \n\nWelcome to The Natural Side of Ocean Shores at Oyhut Bay!\n\n \n\nWhat is Business After Hours? Each month\, a business or organization in the county receives the opportunity to host the event and offer locals a chance to meet up with some familiar faces and engage with new community members. The host will have the chance to present the attendees with an introduction to their mission\, products\, purpose and whatever else they like in their own distinctive manner. An event truly unlike any other!
X-ALT-DESC;FMTTYPE=text/html:<p style="margin: 0px\; padding: 0px\; color: rgb(94\, 94\, 94)\; font-family: &quot\;Open Sans&quot\;\, &quot\;Lucida Grande&quot\;\, arial\, sans-serif\; font-size: 15px\; background-color: rgb(233\, 233\, 233)\;">Come explore Oyhut Bay in Ocean Shores at the August Business After Hours!</p>\n\n<p style="margin: 0px\; padding: 0px\; color: rgb(94\, 94\, 94)\; font-family: &quot\;Open Sans&quot\;\, &quot\;Lucida Grande&quot\;\, arial\, sans-serif\; font-size: 15px\; background-color: rgb(233\, 233\, 233)\;">&nbsp\;</p>\n\n<p style="margin: 0px\; padding: 0px\; color: rgb(94\, 94\, 94)\; font-family: &quot\;Open Sans&quot\;\, &quot\;Lucida Grande&quot\;\, arial\, sans-serif\; font-size: 15px\; background-color: rgb(233\, 233\, 233)\;">The brand new beach homes are the center of this new walkable\, bikable village neighboring the 683-acre Oyhut Wildlife Recreation Area. Enjoy the newly opened Oyhut Bay Bistro and Lounge\, coffee and gift shop\, children&rsquo\;s play area\, outdoor gas and wood fire pits\, and much more. The village&#39\;s dock offers access to twenty-three miles of inland freshwater canals and lakes for fishing\, paddling\, kayaking\, and fun.</p>\n\n<p style="margin: 0px\; padding: 0px\; color: rgb(94\, 94\, 94)\; font-family: &quot\;Open Sans&quot\;\, &quot\;Lucida Grande&quot\;\, arial\, sans-serif\; font-size: 15px\; background-color: rgb(233\, 233\, 233)\;">&nbsp\;</p>\n\n<p style="margin: 0px\; padding: 0px\; color: rgb(94\, 94\, 94)\; font-family: &quot\;Open Sans&quot\;\, &quot\;Lucida Grande&quot\;\, arial\, sans-serif\; font-size: 15px\; background-color: rgb(233\, 233\, 233)\;">Welcome to The Natural Side of Ocean Shores at Oyhut Bay!</p>\n\n<p style="margin: 0px\; padding: 0px\; color: rgb(94\, 94\, 94)\; font-family: &quot\;Open Sans&quot\;\, &quot\;Lucida Grande&quot\;\, arial\, sans-serif\; font-size: 15px\; background-color: rgb(233\, 233\, 233)\;">&nbsp\;</p>\n\n<p style="margin: 0px\; padding: 0px\; color: rgb(94\, 94\, 94)\; font-family: &quot\;Open Sans&quot\;\, &quot\;Lucida Grande&quot\;\, arial\, sans-serif\; font-size: 15px\; background-color: rgb(233\, 233\, 233)\;"><span style="font-style: inherit\; font-weight: 700\;">What is Business After Hours?</span>&nbsp\;Each month\, a business or organization in the county receives the opportunity to host the event and offer locals a chance to meet up with some familiar faces and engage with new community members. The host will have the chance to present the attendees with an introduction to their mission\, products\, purpose and whatever else they like in their own distinctive manner. An event truly unlike any other!</p>\n
LOCATION:Oyhut Bay 300 Lodge Ave SW Ocean Shores\, WA
UID:e.26.11163
SEQUENCE:3
DTSTAMP:20260425T032928Z
URL:https://chamber.graysharbor.org/events/details/business-after-hours-11163
END:VEVENT

END:VCALENDAR
