BEGIN:VCALENDAR
VERSION:2.0
PRODID:-//ChamberMaster//Event Calendar 2.0//EN
METHOD:PUBLISH
X-PUBLISHED-TTL:P3D
REFRESH-INTERVAL:P3D
CALSCALE:GREGORIAN
BEGIN:VEVENT
DTSTART:20181212T013000Z
DTEND:20181212T030000Z
X-MICROSOFT-CDO-ALLDAYEVENT:FALSE
SUMMARY:Business After Hours
DESCRIPTION:The jolliest Business After Hours of the year!\n\n Join GGHI at TwinStar Credit Union for an evening of fun at this brand new facility in Aberdeen. The December BAH is always extremely well attended\, and we know this year will be no different!
X-ALT-DESC;FMTTYPE=text/html:<em>The jolliest Business After Hours of the year!</em><br />\n&#8203\;Join GGHI at TwinStar Credit Union for an evening of fun at this brand new facility in Aberdeen. The December BAH is always extremely well attended\, and we know this year will be no different!
LOCATION:TwinStar Credit Union 416 E Market St. Aberdeen\, WA
UID:e.26.11325
SEQUENCE:3
DTSTAMP:20260424T210508Z
URL:https://chamber.graysharbor.org/events/details/business-after-hours-11325
END:VEVENT

END:VCALENDAR
