BEGIN:VCALENDAR
VERSION:2.0
PRODID:-//ChamberMaster//Event Calendar 2.0//EN
METHOD:PUBLISH
X-PUBLISHED-TTL:P3D
REFRESH-INTERVAL:P3D
CALSCALE:GREGORIAN
BEGIN:VEVENT
DTSTART:20190109T013000Z
DTEND:20190109T030000Z
X-MICROSOFT-CDO-ALLDAYEVENT:FALSE
SUMMARY:Business After Hours
DESCRIPTION:Alpha Media Grays Harbor - Delivering Information\, Entertainment and Results! \n\n\nGreater Grays Harbor is excited to announce the first Business After Hours of 2019! Spread the word\, bring your friends and join us at Alpha Media on Tuesday\, January 8th.\n\n \n\nAlpha Media will be running a $500 advertising package giveaway during the event! They will also allow clients to record a "shop local message" for the new year.\n\n \n\nWhat is Business After Hours? Each month\, a business or organization in the county receives the opportunity to host this event and offer locals a chance to meet up with some familiar faces and engage with new community members. The host will have the chance to present the attendees with an introduction to their mission\, products\, purpose and whatever else they like in their own distinctive manner. This is truly an event unlike any other!
X-ALT-DESC;FMTTYPE=text/html:<h2 class="theme-p-title theme-color3" data-clicktarget="#" data-target="title" style="margin: 0px\; padding: 5px 0px 10px\; font-size: 22px\; font-weight: 400\; line-height: 1em\; word-wrap: break-word\; color: rgb(34\, 34\, 34)\; font-family: sm_helvetica-nn\, Helvetica\, Arial\, sans-serif\;">Alpha Media Grays Harbor - Delivering Information\, Entertainment and Results!&nbsp\;</h2>\n\n<div class="theme-p  theme-color-4" data-target="content" style="margin: 0px\; padding: 0px 0px 12px\; font-family: Roboto\, &quot\;Lucida Grande&quot\;\, arial\, sans-serif\; line-height: 1.55\; font-size: 14px\; word-wrap: break-word\; color: rgb(102\, 102\, 102)\;">\n<p style="margin: 0px\; padding: 0px\;">Greater Grays Harbor is excited to announce the first Business After Hours of 2019! Spread the word\, bring your friends and join us at Alpha Media on Tuesday\, January 8th.</p>\n\n<p style="margin: 0px\; padding: 0px\;">&nbsp\;</p>\n\n<p style="margin: 0px\; padding: 0px\;">Alpha Media will be running a $500 advertising package giveaway during the event! They will also allow clients to record a &quot\;shop local message&quot\; for the new year.</p>\n\n<p style="margin: 0px\; padding: 0px\;">&nbsp\;</p>\n\n<p style="margin: 0px\; padding: 0px\;"><span style="font-style: inherit\; font-weight: 700\;">What is Business After Hours?</span>&nbsp\;Each month\, a business or organization in the county receives the opportunity to host this event and offer locals a chance to meet up with some familiar faces and engage with new community members. The host will have the chance to present the attendees with an introduction to their mission\, products\, purpose and whatever else they like in their own distinctive manner. This is truly an event unlike any other!</p>\n</div>\n
LOCATION:Alpha Media 1308 Coolidge Rd Aberdeen\, WA
UID:e.26.11408
SEQUENCE:3
DTSTAMP:20260424T194258Z
URL:https://chamber.graysharbor.org/events/details/business-after-hours-11408
END:VEVENT

END:VCALENDAR
