BEGIN:VCALENDAR
VERSION:2.0
PRODID:-//ChamberMaster//Event Calendar 2.0//EN
METHOD:PUBLISH
X-PUBLISHED-TTL:P3D
REFRESH-INTERVAL:P3D
CALSCALE:GREGORIAN
BEGIN:VEVENT
DTSTART:20190313T003000Z
DTEND:20190313T020000Z
X-MICROSOFT-CDO-ALLDAYEVENT:FALSE
SUMMARY:Business After Hours
DESCRIPTION:One of Hoquiam's newest businesses will be the host of the March Business After Hours! Come out to Hoquiam Brewing Company on March 12th at 5:30pm for an unforgettable night of networking in this unique space in Grays Harbor. \n\n \n\nFounded in 2016\, Hoquiam Brewing Company serves multiple beers brewed in-house\, rotating ciders as well as a newly launched food menu in a family-friendly setting. Bring your friends and join GGHI for a fun night out in Hoquiam!\n\n \n\nWhat is Business After Hours? Each month\, a business or organization in the county receives the opportunity to host this event and offer locals a chance to engage with familiar faces and new community members. The host will have the chance to present the attendees with an introduction to their mission\, products\, purpose and whatever else they like in their own distinctive manner. This is truly an event unlike any other!
X-ALT-DESC;FMTTYPE=text/html:<p style="margin: 0px\; padding: 0px\; caret-color: rgb(85\, 85\, 85)\; color: rgb(85\, 85\, 85)\; font-family: Roboto\, &quot\;Lucida Grande&quot\;\, arial\, sans-serif\; font-size: 15px\;">One of Hoquiam&#39\;s newest businesses will be the host of the March Business After Hours! Come out to Hoquiam Brewing Company on March 12th at 5:30pm for an unforgettable night of networking in this unique space in Grays Harbor.&nbsp\;</p>\n\n<p style="margin: 0px\; padding: 0px\; caret-color: rgb(85\, 85\, 85)\; color: rgb(85\, 85\, 85)\; font-family: Roboto\, &quot\;Lucida Grande&quot\;\, arial\, sans-serif\; font-size: 15px\;">&nbsp\;</p>\n\n<p style="margin: 0px\; padding: 0px\; caret-color: rgb(85\, 85\, 85)\; color: rgb(85\, 85\, 85)\; font-family: Roboto\, &quot\;Lucida Grande&quot\;\, arial\, sans-serif\; font-size: 15px\;">Founded in 2016\, Hoquiam Brewing Company serves multiple beers brewed in-house\, rotating ciders as well as a newly launched food menu in a family-friendly setting. Bring your friends and join GGHI for a fun night out in Hoquiam!</p>\n\n<p style="margin: 0px\; padding: 0px\; caret-color: rgb(85\, 85\, 85)\; color: rgb(85\, 85\, 85)\; font-family: Roboto\, &quot\;Lucida Grande&quot\;\, arial\, sans-serif\; font-size: 15px\;">&nbsp\;</p>\n\n<p style="margin: 0px\; padding: 0px\; caret-color: rgb(85\, 85\, 85)\; color: rgb(85\, 85\, 85)\; font-family: Roboto\, &quot\;Lucida Grande&quot\;\, arial\, sans-serif\; font-size: 15px\;"><span style="font-style: inherit\; font-weight: 700\;">What is Business After Hours?</span>&nbsp\;Each month\, a business or organization in the county receives the opportunity to host this event and offer locals a chance to engage with familiar faces and new community members. The host will have the chance to present the attendees with an introduction to their mission\, products\, purpose and whatever else they like in their own distinctive manner. This is truly an event unlike any other!</p>\n
LOCATION:Hoquiam Brewing Company 526 8th St. Hoquiam\, WA
UID:e.26.11782
SEQUENCE:3
DTSTAMP:20260424T163255Z
URL:https://chamber.graysharbor.org/events/details/business-after-hours-11782
END:VEVENT

END:VCALENDAR
