BEGIN:VCALENDAR
VERSION:2.0
PRODID:-//ChamberMaster//Event Calendar 2.0//EN
METHOD:PUBLISH
X-PUBLISHED-TTL:P3D
REFRESH-INTERVAL:P3D
CALSCALE:GREGORIAN
BEGIN:VEVENT
DTSTART:20190410T003000Z
DTEND:20190410T020000Z
X-MICROSOFT-CDO-ALLDAYEVENT:FALSE
SUMMARY:Business After Hours
DESCRIPTION:Join GGHI at Coastal Harvest in Hoquiam for the April Business After Hours!\n\n\n\nCoastal Harvest delivers food\, at no charge\, to over 50 food banks\, senior centers\, tribal centers\, and feeding programs in Grays Harbor\, Pacific\, Lewis\, Thurston\, Mason\, Jefferson and and Wahkiakum Counties. The food distribution center is located in Hoquiam\, Washington.\n\n\n\nWhat is Business After Hours? Each month\, a business or organization in the county receives the opportunity to host this event and offer locals a chance to engage with familiar faces and new community members. The host will have the chance to present the attendees with an introduction to their mission\, products\, purpose and whatever else they like in their own distinctive manner. This is truly an event unlike any other!
X-ALT-DESC;FMTTYPE=text/html:<span style="font-size:14px\;"><span style="font-weight: 700\; caret-color: rgb(85\, 85\, 85)\; color: rgb(85\, 85\, 85)\;">Join GGHI at Coastal Harvest in Hoquiam for the April Business After Hours!</span><br />\n<br />\n<span style="font-family:arial\;"><span style="caret-color: rgb(119\, 119\, 119)\; color: rgb(119\, 119\, 119)\;">Coastal Harvest delivers food\, at no charge\, to over 50 food banks\, senior centers\, tribal centers\, and feeding programs in Grays Harbor\, Pacific\, Lewis\, Thurston\, Mason\, Jefferson and and Wahkiakum Counties. The food distribution center is located in Hoquiam\, Washington.</span></span><br />\n<br />\n<span style="font-family:arial\;"><span style="font-weight: 700\; caret-color: rgb(85\, 85\, 85)\; color: rgb(85\, 85\, 85)\;">What is Business After Hours?</span><span style="caret-color: rgb(85\, 85\, 85)\; color: rgb(85\, 85\, 85)\;">&nbsp\;Each month\, a business or organization in the county receives the opportunity to host this event and offer locals a chance to engage with familiar faces and new community members. The host will have the chance to present the attendees with an introduction to their mission\, products\, purpose and whatever else they like in their own distinctive manner. This is truly an event unlike any other!</span></span></span>
LOCATION:Coastal Harvest 520 Tyler St. Hoquiam\, WA 98550
UID:e.26.11896
SEQUENCE:3
DTSTAMP:20260424T150914Z
URL:https://chamber.graysharbor.org/events/details/business-after-hours-11896
END:VEVENT

END:VCALENDAR
