BEGIN:VCALENDAR
VERSION:2.0
PRODID:-//ChamberMaster//Event Calendar 2.0//EN
METHOD:PUBLISH
X-PUBLISHED-TTL:P3D
REFRESH-INTERVAL:P3D
CALSCALE:GREGORIAN
BEGIN:VEVENT
DTSTART:20190515T003000Z
DTEND:20190515T020000Z
X-MICROSOFT-CDO-ALLDAYEVENT:FALSE
SUMMARY:Business After Hours
DESCRIPTION:If you're looking for a new Honda or pre-owned Honda car\, financing\, parts and accessories on the Washington Coast\, come check out Honda of Grays Harbor! As the host of the May Business After Hours\, Honda of Grays Harbor will give guests an in-depth look into the workings of their company and introduce their friendly staff that serve the community. Everyone is welcome at this free event in Aberdeen!\n\n\n\nWhat is Business After Hours? Each month\, a business or organization in the county receives the opportunity to host this event and offer locals a chance to engage with familiar faces and new community members. The host will have the chance to present the attendees with an introduction to their mission\, products\, purpose and whatever else they like in their own distinctive manner. This is truly an event unlike any other!
X-ALT-DESC;FMTTYPE=text/html:<span style="font-size:14px\;"><span style="font-family:arial\;"><span style="caret-color: rgb(0\, 0\, 0)\;">If you&#39\;re looking for a new Honda or pre-owned Honda car\, financing\, parts and accessories on the Washington Coast\, come check out Honda of Grays Harbor! As the host of the May Business After Hours\, Honda of Grays Harbor will give guests an in-depth look into the workings of their company and introduce their friendly staff that serve the community. Everyone is welcome at this free event in Aberdeen!</span><br />\n<br />\n<span style="margin: 0px\; padding: 0px\; border: none\; border-image-source: none\; border-image-slice: 100% 1 0\; border-image-repeat: stretch\; outline: 0px\; vertical-align: baseline\; background-image: none\; bottom: auto\; box-sizing: content-box\; clear: none\; content: normal\; direction: inherit\; empty-cells: show\; font-weight: 700\; font-stretch: inherit\; left: auto\; line-height: inherit\; max-height: none\; max-width: none\; opacity: 1\; outline-offset: 0px\; overflow: visible\; position: static\; resize: none\; right: auto\; table-layout: auto\; text-overflow: clip\; top: auto\; visibility: inherit\; word-break: inherit\; word-wrap: inherit\; z-index: auto\; border-collapse: separate\; border-top-left-radius: 0px\; border-top-right-radius: 0px\; border-bottom-right-radius: 0px\; border-bottom-left-radius: 0px\; height: auto\; width: auto\; box-shadow: none\; caret-color: rgb(85\, 85\, 85)\;">What is Business After Hours?</span><span style="margin: 0px\; padding: 0px\; border: none\; border-image-source: none\; border-image-slice: 100% 1 0\; border-image-repeat: stretch\; outline: 0px\; vertical-align: baseline\; background-image: none\; bottom: auto\; box-sizing: content-box\; clear: none\; content: normal\; direction: inherit\; empty-cells: show\; font-stretch: inherit\; left: auto\; line-height: inherit\; max-height: none\; max-width: none\; opacity: 1\; outline-offset: 0px\; overflow: visible\; position: static\; resize: none\; right: auto\; table-layout: auto\; text-overflow: clip\; top: auto\; visibility: inherit\; word-break: inherit\; word-wrap: inherit\; z-index: auto\; border-collapse: separate\; border-top-left-radius: 0px\; border-top-right-radius: 0px\; border-bottom-right-radius: 0px\; border-bottom-left-radius: 0px\; height: auto\; width: auto\; box-shadow: none\; caret-color: rgb(85\, 85\, 85)\;">&nbsp\;Each month\, a business or organization in the county receives the opportunity to host this event and offer locals a chance to engage with familiar faces and new community members. The host will have the chance to present the attendees with an introduction to their mission\, products\, purpose and whatever else they like in their own distinctive manner. This is truly an event unlike any other!</span></span></span>
LOCATION:Honda of Grays Harbor 720 Simpson Ave Aberdeen\, WA 98520
UID:e.26.11970
SEQUENCE:3
DTSTAMP:20260424T132555Z
URL:https://chamber.graysharbor.org/events/details/business-after-hours-11970
END:VEVENT

END:VCALENDAR
