BEGIN:VCALENDAR
VERSION:2.0
PRODID:-//ChamberMaster//Event Calendar 2.0//EN
METHOD:PUBLISH
X-PUBLISHED-TTL:P3D
REFRESH-INTERVAL:P3D
CALSCALE:GREGORIAN
BEGIN:VEVENT
DTSTART:20190710T003000Z
DTEND:20190710T020000Z
X-MICROSOFT-CDO-ALLDAYEVENT:FALSE
SUMMARY:Business After Hours
DESCRIPTION:Please join us at the July Business After Hours! This month's host will be Summit Pacific Medical Center in Elma. \n\nSummit Pacific is a vibrant and expanding public hospital district that operates a Critical Access Hospital with a level IV trauma designation\, two rural healthcare clinics and a seven day a week urgent care clinic. Summit Pacific's vision is that "Through Summit Care\, we will build the healthiest community in the Nation." We invite you to come out and explore this state of the art facility and connect with local community members.
X-ALT-DESC;FMTTYPE=text/html:<span style="font-size:14px\;"><span style="font-family:arial\;">Please join us at the July Business After Hours! This month&#39\;s host will be Summit Pacific Medical Center in Elma.&nbsp\;<br />\n<span style="caret-color: rgb(0\, 0\, 0)\; color: rgb(0\, 0\, 0)\;">Summit Pacific is a vibrant and expanding public hospital district that operates a Critical Access Hospital with a level IV trauma designation\, two rural healthcare clinics and a seven day a week urgent care clinic. Summit Pacific&rsquo\;s vision is that &ldquo\;Through Summit Care\, we will build the healthiest community in the Nation.&rdquo\; We invite you to come out and explore this state of the art facility and connect with local community members.</span></span></span>
LOCATION:Summit Pacific Medical Center 600 E Main Street Elma\, WA 98541 **Please park in the upper parking lot behind the building and enter on the second floor. The event will be in Summit Pacific's Cafe on the second floor.
UID:e.26.12075
SEQUENCE:3
DTSTAMP:20260424T115034Z
URL:https://chamber.graysharbor.org/events/details/business-after-hours-12075
END:VEVENT

END:VCALENDAR
