BEGIN:VCALENDAR
VERSION:2.0
PRODID:-//ChamberMaster//Event Calendar 2.0//EN
METHOD:PUBLISH
X-PUBLISHED-TTL:P3D
REFRESH-INTERVAL:P3D
CALSCALE:GREGORIAN
BEGIN:VEVENT
DTSTART:20190814T003000Z
DTEND:20190814T020000Z
X-MICROSOFT-CDO-ALLDAYEVENT:FALSE
SUMMARY:Business After Hours
DESCRIPTION:GGHI has a very exciting Business Afters Hours lined up for August! Premier Realty - Olympic Peninsula and Mount Olympus Brewing Company will be the combined hosts of this month's event.\n\n\n\nSince day one\, Premier Realty - Olympic Peninsula have always been about not only serving the community\, but being a helping hand personally as well as professionally. The team at Premier Realty - Olympic Peninsula is not just a group of realtors but also your friends and your support. The agents are experienced\, driven\, and ready to help you with whatever need you have. \n\n\n\nMount Olympus Brewing creates unique\, diverse and high quality artisan craft beer on a five barrel brew house. Their recipes are full flavored\, aggressively hopped\, unfiltered and unpasteurized. We will strive to continually keep up with new trends in the market\, and ultimately give our customers a relaxing\, stress free local hangout that they can call their third home.\n\n\n\nPlease join GGHI on Tuesday\, August 13th at 5:30pm for a great evening of networking and learning more about Premier Realty - Olympic Peninsula as well as Mount Olympus Brewing Company - two professional and successful businesses in Grays Harbor.\n\n\n\nWhat is Business After Hours? Each month\, a business or organization in the county receives the opportunity to host this event and offer locals a chance to engage with familiar faces and new community members. The host will have the chance to present the attendees with an introduction to their mission\, products\, purpose and whatever else they like in their own distinctive manner. This is truly an event unlike any other!
X-ALT-DESC;FMTTYPE=text/html:<span style="font-family: arial\; font-size: 14px\; caret-color: rgb(31\, 73\, 125)\;">GGHI has a very exciting Business Afters Hours lined up for August! Premier Realty - Olympic Peninsula and Mount Olympus Brewing Company will be the combined hosts of this month&#39\;s event.</span><br />\n<br />\n<font color="#1c1e21" face="arial"><span style="caret-color: rgb(28\, 30\, 33)\; font-size: 14px\; white-space: pre-wrap\;">Since day one\, </span></font><span style="caret-color: rgb(31\, 73\, 125)\; font-family: arial\; font-size: 14px\;">Premier Realty - Olympic Peninsula</span><font color="#1c1e21" face="arial"><span style="caret-color: rgb(28\, 30\, 33)\; font-size: 14px\; white-space: pre-wrap\;"> have always been about not only serving the community\, but being a helping hand personally as well as professionally. The team at Premier Realty - Olympic Peninsula is not just a group of realtors but also your friends and your support. The agents are experienced\, driven\, and ready to help you with whatever need you have. </span></font><br />\n<br />\n<span style="font-size:14px\;"><span style="font-family:arial\;"><span style="caret-color: rgb(28\, 30\, 33)\; color: rgb(28\, 30\, 33)\;">Mount Olympus Brewing creates unique\, diverse and high quality artisan craft beer on a five barrel brew house</span><span class="text_exposed_show" style="display: inline\; caret-color: rgb(28\, 30\, 33)\; color: rgb(28\, 30\, 33)\;">. Their recipes are full flavored\, aggressively hopped\, unfiltered and unpasteurized. We will strive to continually keep up with new trends in the market\, and ultimately give our customers a relaxing\, stress free local hangout that they can call their third home.</span></span></span><br />\n<br />\n<font color="#1c1e21" face="arial"><span style="font-size: 14px\; white-space: pre-wrap\;">Please join GGHI on Tuesday\, August 13th at 5:30pm for a great evening of networking and learning more about Premier Realty - Olympic Peninsula as well as Mount Olympus Brewing Company - two professional and successful businesses in Grays Harbor.</span></font><br />\n<br />\n<span style="font-family: arial\; font-size: 14px\; font-weight: 700\; caret-color: rgb(102\, 102\, 102)\;">What is Business After Hours?</span><span style="font-family: arial\; font-size: 14px\; caret-color: rgb(102\, 102\, 102)\;">&nbsp\;Each month\, a business or organization in the county receives the opportunity to host this event and offer locals a chance to engage with familiar faces and new community members. The host will have the chance to present the attendees with an introduction to their mission\, products\, purpose and whatever else they like in their own distinctive manner. This is truly an event unlike any other!</span>
LOCATION:Mount Olympus Brewing Co. 105 W Heron St. Aberdeen\, Washington
UID:e.26.12133
SEQUENCE:3
DTSTAMP:20260424T103412Z
URL:https://chamber.graysharbor.org/events/details/business-after-hours-12133
END:VEVENT

END:VCALENDAR
