BEGIN:VCALENDAR
VERSION:2.0
PRODID:-//ChamberMaster//Event Calendar 2.0//EN
METHOD:PUBLISH
X-PUBLISHED-TTL:P3D
REFRESH-INTERVAL:P3D
CALSCALE:GREGORIAN
BEGIN:VEVENT
DTSTART:20190911T003000Z
DTEND:20190911T020000Z
X-MICROSOFT-CDO-ALLDAYEVENT:FALSE
SUMMARY:Business After Hours
DESCRIPTION:Great NorthWest Federal Credit Union will be the host of the September Business After Hours! This not-for-profit credit union serves Grays Harbor\, Pacific\, Lewis\, Mason and Wahkiakum counties. \n\n\n\n \n\n\n\nCatering will be provided by O'Brien's\, plus there'll be door prize drawings and credit union giveaways. \n\n\n\n \n\n\n\nThe upstairs of the central area of the building will be the utilized for this event. Upon arrival at their Aberdeen location of 301 W Wishkah St.\, head to the main building's mezzanine that can be accessed next door to Bryan And Son's. This area can also be accessed through GNWFCU's lobby which opens up to the mezzanine. The central elevator will ensure accessibility for all of the guests. \n\n\n\n \n\n\n\nBe sure to add this great evening of networking to your September calendar!\n\n\n\n \n\n\n\nPlease contact Derek Schlaht at dschlaht@graysharbor.org with any questions about this free community event. \n\n \n\nWhat is Business After Hours? Each month\, a business or organization in the county receives the opportunity to host this event and offer locals a chance to engage with familiar faces and new community members. The host will have the chance to present the attendees with an introduction to their mission\, products\, purpose and whatever else they like in their own distinctive manner. This is truly an event unlike any other!
X-ALT-DESC;FMTTYPE=text/html:<div data-block="true" data-editor="hui7" data-offset-key="7a09k-0-0" style="font-family: system-ui\, -apple-system\, BlinkMacSystemFont\, &quot\;.SFNSText-Regular&quot\;\, sans-serif\; caret-color: rgb(28\, 30\, 33)\; color: rgb(28\, 30\, 33)\; font-size: 12px\; white-space: pre-wrap\;">\n<div class="_1mf _1mj" data-offset-key="7a09k-0-0" style="position: relative\; direction: ltr\; font-family: inherit\;"><span style="font-size:14px\;"><span data-offset-key="7a09k-0-0" style="font-family: inherit\;">Great NorthWest Federal Credit Union will be the host of the September Business After Hours! This not-for-profit credit union serves Grays Harbor\, Pacific\, Lewis\, Mason and Wahkiakum counties. </span></span></div>\n</div>\n\n<div data-block="true" data-editor="hui7" data-offset-key="c0ql6-0-0" style="font-family: system-ui\, -apple-system\, BlinkMacSystemFont\, &quot\;.SFNSText-Regular&quot\;\, sans-serif\; caret-color: rgb(28\, 30\, 33)\; color: rgb(28\, 30\, 33)\; font-size: 12px\; white-space: pre-wrap\;">\n<div class="_1mf _1mj" data-offset-key="c0ql6-0-0" style="position: relative\; direction: ltr\; font-family: inherit\;">&nbsp\;</div>\n</div>\n\n<div data-block="true" data-editor="hui7" data-offset-key="a04lq-0-0" style="font-family: system-ui\, -apple-system\, BlinkMacSystemFont\, &quot\;.SFNSText-Regular&quot\;\, sans-serif\; caret-color: rgb(28\, 30\, 33)\; color: rgb(28\, 30\, 33)\; font-size: 12px\; white-space: pre-wrap\;">\n<div class="_1mf _1mj" data-offset-key="a04lq-0-0" style="position: relative\; direction: ltr\; font-family: inherit\;"><span style="font-size:14px\;"><span data-offset-key="a04lq-0-0" style="font-family: inherit\;">Catering will be provided by O&rsquo\;Brien&rsquo\;s\, plus there&#39\;ll be door prize drawings and credit union giveaways. </span></span></div>\n</div>\n\n<div data-block="true" data-editor="hui7" data-offset-key="881md-0-0" style="font-family: system-ui\, -apple-system\, BlinkMacSystemFont\, &quot\;.SFNSText-Regular&quot\;\, sans-serif\; caret-color: rgb(28\, 30\, 33)\; color: rgb(28\, 30\, 33)\; font-size: 12px\; white-space: pre-wrap\;">\n<div class="_1mf _1mj" data-offset-key="881md-0-0" style="position: relative\; direction: ltr\; font-family: inherit\;">&nbsp\;</div>\n</div>\n\n<div data-block="true" data-editor="hui7" data-offset-key="ejjqj-0-0" style="font-family: system-ui\, -apple-system\, BlinkMacSystemFont\, &quot\;.SFNSText-Regular&quot\;\, sans-serif\; caret-color: rgb(28\, 30\, 33)\; color: rgb(28\, 30\, 33)\; font-size: 12px\; white-space: pre-wrap\;">\n<div class="_1mf _1mj" data-offset-key="ejjqj-0-0" style="position: relative\; direction: ltr\; font-family: inherit\;"><span style="font-size:14px\;"><span data-offset-key="ejjqj-0-0" style="font-family: inherit\;">The upstairs of the central area of the building will be the utilized for this event. Upon arrival at their Aberdeen location of 301 W Wishkah St.\, head to the main building&rsquo\;s mezzanine that can be accessed next door to Bryan And Son&rsquo\;s. This area can also be accessed through GNWFCU&#39\;s lobby which opens up to the mezzanine. The central elevator will ensure accessibility for all of the guests. </span></span></div>\n</div>\n\n<div data-block="true" data-editor="hui7" data-offset-key="86nik-0-0" style="font-family: system-ui\, -apple-system\, BlinkMacSystemFont\, &quot\;.SFNSText-Regular&quot\;\, sans-serif\; caret-color: rgb(28\, 30\, 33)\; color: rgb(28\, 30\, 33)\; font-size: 12px\; white-space: pre-wrap\;">\n<div class="_1mf _1mj" data-offset-key="86nik-0-0" style="position: relative\; direction: ltr\; font-family: inherit\;">&nbsp\;</div>\n</div>\n\n<div data-block="true" data-editor="hui7" data-offset-key="bu0qq-0-0" style="font-family: system-ui\, -apple-system\, BlinkMacSystemFont\, &quot\;.SFNSText-Regular&quot\;\, sans-serif\; caret-color: rgb(28\, 30\, 33)\; color: rgb(28\, 30\, 33)\; font-size: 12px\; white-space: pre-wrap\;">\n<div class="_1mf _1mj" data-offset-key="bu0qq-0-0" style="position: relative\; direction: ltr\; font-family: inherit\;"><span style="font-size:14px\;"><span data-offset-key="bu0qq-0-0" style="font-family: inherit\;">Be sure to add this great evening of networking to your September calendar!</span></span></div>\n</div>\n\n<div data-block="true" data-editor="hui7" data-offset-key="95oi8-0-0" style="font-family: system-ui\, -apple-system\, BlinkMacSystemFont\, &quot\;.SFNSText-Regular&quot\;\, sans-serif\; caret-color: rgb(28\, 30\, 33)\; color: rgb(28\, 30\, 33)\; font-size: 12px\; white-space: pre-wrap\;">\n<div class="_1mf _1mj" data-offset-key="95oi8-0-0" style="position: relative\; direction: ltr\; font-family: inherit\;">&nbsp\;</div>\n</div>\n\n<div data-block="true" data-editor="hui7" data-offset-key="8emst-0-0" style="font-family: system-ui\, -apple-system\, BlinkMacSystemFont\, &quot\;.SFNSText-Regular&quot\;\, sans-serif\; caret-color: rgb(28\, 30\, 33)\; color: rgb(28\, 30\, 33)\; font-size: 12px\; white-space: pre-wrap\;">\n<div class="_1mf _1mj" data-offset-key="8emst-0-0" style="position: relative\; direction: ltr\; font-family: inherit\;"><span data-offset-key="8emst-0-0" style="font-family: inherit\;"><span style="font-size:14px\;">Please contact Derek Schlaht at dschlaht@graysharbor.org with any questions about this free community event.</span> </span><br />\n&nbsp\;</div>\n</div>\n<span style="caret-color: rgb(29\, 33\, 41)\; color: rgb(29\, 33\, 41)\; font-family: system-ui\, -apple-system\, BlinkMacSystemFont\, &quot\;.SFNSText-Regular&quot\;\, sans-serif\; font-size: 14px\; white-space: pre-wrap\;">What is Business After Hours? Each month\, a business or organization in the county receives the opportunity to host this event and offer locals a chance to engage with familiar faces and new community members. The host will have the chance to present the attendees with an introduction to their mission\, products\, purpose and whatever else they like in their own distinctive manner. This is truly an event unlike any other!</span>
LOCATION:pin Great NorthWest Federal Credit Union 301 W. Wishkah St.\, Aberdeen\, Washington 98520
UID:e.26.12178
SEQUENCE:3
DTSTAMP:20260424T090046Z
URL:https://chamber.graysharbor.org/events/details/business-after-hours-12178
END:VEVENT

END:VCALENDAR
