BEGIN:VCALENDAR
VERSION:2.0
PRODID:-//ChamberMaster//Event Calendar 2.0//EN
METHOD:PUBLISH
X-PUBLISHED-TTL:P3D
REFRESH-INTERVAL:P3D
CALSCALE:GREGORIAN
BEGIN:VEVENT
DTSTART:20191211T013000Z
DTEND:20191211T030000Z
X-MICROSOFT-CDO-ALLDAYEVENT:FALSE
SUMMARY:Business After Hours
DESCRIPTION:Join in on the holiday celebrations at Artic Pub & RV Park! We have the privilege of gathering for the final Business After Hours of 2019 at this local business in Cosmopolis. Guests will learn more about various aspects of their business as well as have the opportunity to interact with fellow community members at this festive gathering. We look forward to celebrating with you!\n\n \n\nWhat is Business After Hours? Each month\, a business or organization in the county receives the opportunity to host this event and offer locals a chance to engage with familiar faces and new community members. The host will have the chance to present the attendees with an introduction to their mission\, products\, purpose and whatever else they like in their own distinctive manner. This is truly an event unlike any other!
X-ALT-DESC;FMTTYPE=text/html:<p style="margin: 0px\; padding: 0px\; caret-color: rgb(102\, 102\, 102)\; color: rgb(102\, 102\, 102)\; font-family: Roboto\, &quot\;Lucida Grande&quot\;\, arial\, sans-serif\; font-size: 14px\;"><span style="font-family:arial\;"><span style="color:#000000\;">Join in on the holiday celebrations at&nbsp\;</span><a data-id="l-3881962832" href="https://www.articrvpark.com/" rel="nofollow" style="cursor: pointer\; color: rgb(28\, 110\, 152)\;" target="_blank"><span style="color:#000000\;">Artic Pub &amp\; RV Park</span></a><span style="color:#000000\;">! We have the privilege of gathering for the final Business After Hours of 2019 at this local business in Cosmopolis. Guests will learn more about various aspects of their business as well as have the opportunity to interact with fellow community members at this festive gathering. We look forward to celebrating with you!</span></span></p>\n\n<p style="margin: 0px\; padding: 0px\; caret-color: rgb(102\, 102\, 102)\; color: rgb(102\, 102\, 102)\; font-family: Roboto\, &quot\;Lucida Grande&quot\;\, arial\, sans-serif\; font-size: 14px\;">&nbsp\;</p>\n\n<p style="margin: 0px\; padding: 0px\; caret-color: rgb(102\, 102\, 102)\; color: rgb(102\, 102\, 102)\; font-family: Roboto\, &quot\;Lucida Grande&quot\;\, arial\, sans-serif\; font-size: 14px\;"><span style="font-family:arial\;"><span style="color:#000000\;"><span style="font-style: inherit\; font-weight: 700\;">What is Business After Hours?</span>&nbsp\;Each month\, a business or organization in the county receives the opportunity to host this event and offer locals a chance to engage with familiar faces and new community members. The host will have the chance to present the attendees with an introduction to their mission\, products\, purpose and whatever else they like in their own distinctive manner. This is truly an event unlike any other!</span></span></p>\n
LOCATION:905 Artic Road Cosmopolis\, WA
UID:e.26.12295
SEQUENCE:3
DTSTAMP:20260424T024913Z
URL:https://chamber.graysharbor.org/events/details/business-after-hours-12295
END:VEVENT

END:VCALENDAR
