BEGIN:VCALENDAR
VERSION:2.0
PRODID:-//ChamberMaster//Event Calendar 2.0//EN
METHOD:PUBLISH
X-PUBLISHED-TTL:P3D
REFRESH-INTERVAL:P3D
CALSCALE:GREGORIAN
BEGIN:VEVENT
DTSTART:20200212T013000Z
DTEND:20200212T030000Z
X-MICROSOFT-CDO-ALLDAYEVENT:FALSE
SUMMARY:Business After Hours
DESCRIPTION:After a snow cancellation in January\, we are very excited to announce that Westport Winery's Business After Hours event has been rescheduled for Tuesday\, February 11th from 5:30pm - 7pm!\n\n\n\nWestport Winery offers two tasting rooms\, a gift shop\, bakery\, gardens and nursery for guests to explore and enjoy. The newest tasting room\, Ocean's Daughter Distillery\, will be celebrated with a ribbon cutting ceremony as well as offering cocktail specials. In addition\, there will be giveaways as well as light appetizers and complimentary wine tastings of their award winning wines. The Winery also offers an amazing array of mixers for those who do not enjoy alcohol. All ages are welcome at this event. \n\n\n\nPlease mark your calendars and invite your friends\, we'd love to see some new faces!\n\n\n\nWhat is Business After Hours? Each month\, a business or organization in the county receives the opportunity to host this free event and offer locals a chance to engage with familiar faces and new community members. The host will have the chance to present the attendees with an introduction to their mission\, products\, purpose and whatever else they like in their own distinctive manner. This is truly an event unlike any other!
X-ALT-DESC;FMTTYPE=text/html:<span style="font-size:14px\;"><span style="font-family:arial\;"><span style="caret-color: rgb(29\, 33\, 41)\; color: rgb(29\, 33\, 41)\; white-space: pre-wrap\; background-color: rgb(255\, 255\, 255)\;">After a snow cancellation in January\, we are very excited to announce that Westport Winery&#39\;s Business After Hours event has been rescheduled for Tuesday\, February 11th from 5:30pm - 7pm!</span><br style="caret-color: rgb(29\, 33\, 41)\; color: rgb(29\, 33\, 41)\; font-family: system-ui\, -apple-system\, BlinkMacSystemFont\, &quot\;.SFNSText-Regular&quot\;\, sans-serif\; font-size: 14px\; white-space: pre-wrap\;" />\n<br style="caret-color: rgb(29\, 33\, 41)\; color: rgb(29\, 33\, 41)\; font-family: system-ui\, -apple-system\, BlinkMacSystemFont\, &quot\;.SFNSText-Regular&quot\;\, sans-serif\; font-size: 14px\; white-space: pre-wrap\;" />\n<span style="caret-color: rgb(29\, 33\, 41)\; color: rgb(29\, 33\, 41)\; white-space: pre-wrap\; background-color: rgb(255\, 255\, 255)\;">Westport Winery offers two tasting rooms\, a gift shop\, bakery\, gardens and nursery for guests to explore and enjoy. The newest tasting room\, Ocean&#39\;s Daughter Distillery\, will be celebrated with a ribbon cutting ceremony as well as offering cocktail specials. In addition\, there will be giveaways as well as light appetizers and complimentary wine tastings of their award winning wines. The Winery also offers an amazing array of mixers for those who do not enjoy alcohol. All ages are welcome at this event. </span><br style="caret-color: rgb(29\, 33\, 41)\; color: rgb(29\, 33\, 41)\; font-family: system-ui\, -apple-system\, BlinkMacSystemFont\, &quot\;.SFNSText-Regular&quot\;\, sans-serif\; font-size: 14px\; white-space: pre-wrap\;" />\n<br style="caret-color: rgb(29\, 33\, 41)\; color: rgb(29\, 33\, 41)\; font-family: system-ui\, -apple-system\, BlinkMacSystemFont\, &quot\;.SFNSText-Regular&quot\;\, sans-serif\; font-size: 14px\; white-space: pre-wrap\;" />\n<span style="caret-color: rgb(29\, 33\, 41)\; color: rgb(29\, 33\, 41)\; white-space: pre-wrap\; background-color: rgb(255\, 255\, 255)\;">Please mark your calendars and invite your friends\, we&#39\;d love to see some new faces!</span><br style="caret-color: rgb(29\, 33\, 41)\; color: rgb(29\, 33\, 41)\; font-family: system-ui\, -apple-system\, BlinkMacSystemFont\, &quot\;.SFNSText-Regular&quot\;\, sans-serif\; font-size: 14px\; white-space: pre-wrap\;" />\n<br style="caret-color: rgb(29\, 33\, 41)\; color: rgb(29\, 33\, 41)\; font-family: system-ui\, -apple-system\, BlinkMacSystemFont\, &quot\;.SFNSText-Regular&quot\;\, sans-serif\; font-size: 14px\; white-space: pre-wrap\;" />\n<span style="caret-color: rgb(29\, 33\, 41)\; color: rgb(29\, 33\, 41)\; white-space: pre-wrap\; background-color: rgb(255\, 255\, 255)\;">What is Business After Hours? Each month\, a business or organization in the county receives the opportunity to host this free event and offer locals a chance to engage with familiar faces and new community members. The host will have the chance to present the attendees with an introduction to their mission\, products\, purpose and whatever else they like in their own distinctive manner. This is truly an event unlike any other!</span></span></span>
LOCATION:Westport Winery 1 S Arbor Rd Aberdeen\, WA
UID:e.26.12364
SEQUENCE:3
DTSTAMP:20260424T012418Z
URL:https://chamber.graysharbor.org/events/details/business-after-hours-12364
END:VEVENT

END:VCALENDAR
