BEGIN:VCALENDAR
VERSION:2.0
PRODID:-//ChamberMaster//Event Calendar 2.0//EN
METHOD:PUBLISH
X-PUBLISHED-TTL:P3D
REFRESH-INTERVAL:P3D
CALSCALE:GREGORIAN
BEGIN:VEVENT
DTSTART:20200311T003000Z
DTEND:20200311T020000Z
X-MICROSOFT-CDO-ALLDAYEVENT:FALSE
SUMMARY:Business After Hours
DESCRIPTION:David & Jamie Quigg with Windermere Real Estate Aberdeen will be hosting the March Business After Hours! \n\n \n\nWhether you're selling your home\, relocating to the area\, looking for your perfect rural property or buying your dream beach home\, David and Jamie are here for you. The duo will give a quick overview of the current residential and commercial market in the County and answer any questions you may have.\n\n \n\nThe event will be held at Mount Olympus Brewing Company in downtown Aberdeen. Appetizers will be provided by Stephanie Diakite and alcoholic/non-alcoholic beverages will be available for purchase. Bring your friends\, we hope to see you there! \n\n\n\nPlease contact Derek Schlaht at dschlaht@graysharbor.org with any questions about this free community event.\n\n \n\nWhat is Business After Hours? Each month\, a business or organization in the county receives the opportunity to host this event and offer locals a chance to engage with familiar faces and new community members. The host will have the chance to present the attendees with an introduction to their mission\, products\, purpose and whatever else they like in their own distinctive manner. This is truly an event unlike any other!
X-ALT-DESC;FMTTYPE=text/html:<p style="margin: 0px\; padding: 0px\; caret-color: rgb(102\, 102\, 102)\; color: rgb(102\, 102\, 102)\; font-family: Roboto\, &quot\;Lucida Grande&quot\;\, arial\, sans-serif\; font-size: 14px\;"><span style="font-size:14px\;"><span style="font-family:arial\;"><a data-id="l-6277447689" href="https://www.facebook.com/QuiggsRE/" rel="nofollow" style="cursor: pointer\; color: rgb(28\, 110\, 152)\;" target="_blank"><span style="color:#000000\;">David &amp\; Jamie Quigg</span></a><span style="color:#000000\;">&nbsp\;with&nbsp\;</span><a data-id="l-5580568520" href="https://windermeregraysharbor.com/" rel="nofollow" style="cursor: pointer\; color: rgb(28\, 110\, 152)\;" target="_blank"><span style="color:#000000\;">Windermere Real Estate Aberdeen</span></a><span style="color:#000000\;">&nbsp\;will be hosting the March Business After Hours!&nbsp\;</span></span></span></p>\n\n<p style="margin: 0px\; padding: 0px\; caret-color: rgb(102\, 102\, 102)\; color: rgb(102\, 102\, 102)\; font-family: Roboto\, &quot\;Lucida Grande&quot\;\, arial\, sans-serif\; font-size: 14px\;">&nbsp\;</p>\n\n<p style="margin: 0px\; padding: 0px\; caret-color: rgb(102\, 102\, 102)\; color: rgb(102\, 102\, 102)\; font-family: Roboto\, &quot\;Lucida Grande&quot\;\, arial\, sans-serif\; font-size: 14px\;"><span style="color:#000000\;"><span style="font-size:14px\;"><span style="font-family:arial\;">Whether you&rsquo\;re selling your home\, relocating to the area\, looking for your perfect rural property or buying your dream beach home\, David and Jamie are here for you. The duo will give a quick overview of the current residential and commercial market in the County and answer any questions you may have.</span></span></span></p>\n\n<p style="margin: 0px\; padding: 0px\; caret-color: rgb(102\, 102\, 102)\; color: rgb(102\, 102\, 102)\; font-family: Roboto\, &quot\;Lucida Grande&quot\;\, arial\, sans-serif\; font-size: 14px\;">&nbsp\;</p>\n\n<p style="margin: 0px\; padding: 0px\; caret-color: rgb(102\, 102\, 102)\; color: rgb(102\, 102\, 102)\; font-family: Roboto\, &quot\;Lucida Grande&quot\;\, arial\, sans-serif\; font-size: 14px\;"><span style="color:#000000\;"><span style="font-size:14px\;"><span style="font-family:arial\;">The event will be held at Mount Olympus Brewing Company in downtown Aberdeen. Appetizers will be provided by Stephanie Diakite and alcoholic/non-alcoholic beverages will be available for purchase. Bring your friends\, we hope to see you there!&nbsp\;</span></span></span></p>\n\n<p style="margin: 0px\; padding: 0px\; caret-color: rgb(102\, 102\, 102)\; color: rgb(102\, 102\, 102)\; font-family: Roboto\, &quot\;Lucida Grande&quot\;\, arial\, sans-serif\; font-size: 14px\;"><br />\n<span style="font-size:14px\;"><span style="font-family:arial\;"><span style="color:#000000\;">Please contact Derek Schlaht at&nbsp\;</span><a data-id="l-9922836171" href="mailto:dschlaht@graysharbor.org" rel="nofollow" style="cursor: pointer\; color: rgb(28\, 110\, 152)\;" target="_blank"><span style="color:#000000\;">dschlaht@graysharbor.org</span></a><span style="color:#000000\;">&nbsp\;with any questions about this free community event.</span></span></span></p>\n\n<p style="margin: 0px\; padding: 0px\; caret-color: rgb(102\, 102\, 102)\; color: rgb(102\, 102\, 102)\; font-family: Roboto\, &quot\;Lucida Grande&quot\;\, arial\, sans-serif\; font-size: 14px\;">&nbsp\;</p>\n\n<p style="margin: 0px\; padding: 0px\; caret-color: rgb(102\, 102\, 102)\; color: rgb(102\, 102\, 102)\; font-family: Roboto\, &quot\;Lucida Grande&quot\;\, arial\, sans-serif\; font-size: 14px\;"><span style="color:#000000\;"><span style="font-size:14px\;"><span style="font-family:arial\;"><span style="font-style: inherit\; font-weight: 700\;">What is Business After Hours?</span>&nbsp\;Each month\, a business or organization in the county receives the opportunity to host this event and offer locals a chance to engage with familiar faces and new community members. The host will have the chance to present the attendees with an introduction to their mission\, products\, purpose and whatever else they like in their own distinctive manner. This is truly an event unlike any other!</span></span></span></p>\n
LOCATION:Mount Olympus Brewing 105 W Heron St. Aberdeen\, WA
UID:e.26.12443
SEQUENCE:3
DTSTAMP:20260424T055949Z
URL:https://chamber.graysharbor.org/events/details/business-after-hours-12443
END:VEVENT

END:VCALENDAR
