BEGIN:VCALENDAR
VERSION:2.0
PRODID:-//ChamberMaster//Event Calendar 2.0//EN
METHOD:PUBLISH
X-PUBLISHED-TTL:P3D
REFRESH-INTERVAL:P3D
CALSCALE:GREGORIAN
BEGIN:VEVENT
DTSTART:20170614T003000Z
DTEND:20170614T020000Z
X-MICROSOFT-CDO-ALLDAYEVENT:FALSE
SUMMARY:Business After Hours
DESCRIPTION:The June Business After Hours will be at B & B Automotive in Aberdeen. As one of the areas oldest & most trusted auto shops\, their concern is ensuring your vehicle is dependable and safe. \n\n\n\nBusiness After Hours offers members and prospective members alike the chance to meet colleagues in an engaging\, unique atmosphere. Each month our host presents the attendees with an opportunity to introduce their business or products in their own distinctive manner. There is sure to be great conversation and connecting at Business After Hours!
X-ALT-DESC;FMTTYPE=text/html:The June Business After Hours will be at B &amp\; B Automotive in Aberdeen. As one of the areas oldest &amp\; most trusted auto shops\,&nbsp\;their concern is ensuring your vehicle is dependable and safe.&nbsp\;<br />\n<br />\nBusiness After Hours offers members and prospective members alike the chance to meet colleagues in an engaging\, unique atmosphere. Each month our host presents the attendees with an opportunity to introduce their business or products in their own distinctive manner. There is sure to be great conversation and connecting at Business After Hours!
LOCATION:B & B Automotive 301 W Market St\, Aberdeen\, WA 98520
UID:e.26.7616
SEQUENCE:3
DTSTAMP:20260426T015321Z
URL:https://chamber.graysharbor.org/events/details/business-after-hours-7616
END:VEVENT

END:VCALENDAR
