BEGIN:VCALENDAR
VERSION:2.0
PRODID:-//ChamberMaster//Event Calendar 2.0//EN
METHOD:PUBLISH
X-PUBLISHED-TTL:P3D
REFRESH-INTERVAL:P3D
CALSCALE:GREGORIAN
BEGIN:VEVENT
DTSTART:20170712T003000Z
DTEND:20170712T020000Z
X-MICROSOFT-CDO-ALLDAYEVENT:FALSE
SUMMARY:Business After Hours
DESCRIPTION:Join Greater Grays Harbor at the July Business After Hours located at the Satsop Development Park.\n\nBusiness After Hours offers members and prospective members alike the chance to meet colleagues in an engaging\, unique atmosphere. Each month our host presents the attendees with an opportunity to introduce their business or products in their own distinctive manner. There is sure to be great conversation and connecting at Business After Hours!
X-ALT-DESC;FMTTYPE=text/html:Join Greater Grays Harbor at the July Business After Hours located at the Satsop Development Park.<br />\nBusiness After Hours offers members and prospective members alike the chance to meet colleagues in an engaging\, unique atmosphere. Each month our host presents the attendees with an opportunity to introduce their business or products in their own distinctive manner. There is sure to be great conversation and connecting at Business After Hours!<br />\n&nbsp\;
LOCATION:Satsop Development Park 150 Technology Lane Elma\, WA
UID:e.26.7654
SEQUENCE:3
DTSTAMP:20260426T015321Z
URL:https://chamber.graysharbor.org/events/details/business-after-hours-7654
END:VEVENT

END:VCALENDAR
