BEGIN:VCALENDAR
VERSION:2.0
PRODID:-//ChamberMaster//Event Calendar 2.0//EN
METHOD:PUBLISH
X-PUBLISHED-TTL:P3D
REFRESH-INTERVAL:P3D
CALSCALE:GREGORIAN
BEGIN:VEVENT
DTSTART:20170809T003000Z
DTEND:20170809T020000Z
X-MICROSOFT-CDO-ALLDAYEVENT:FALSE
SUMMARY:Business After Hours
DESCRIPTION:Network - Learn - Grow\n\n\nMark you calendar's for the August Business After Hours hosted by Bank of the Pacific! Their hometown service and dedication to the Harbor goes above and beyond\, ensuring longevity for many years to come.\n\n \n\nBusiness After Hours offers members and prospective members alike the chance to meet colleagues in an engaging and unique atmosphere. Each month our host presents the attendees with an opportunity to introduce their business or products in their own distinctive manner. There is sure to be great conversation and connecting at the July Business After Hours!
X-ALT-DESC;FMTTYPE=text/html:<h2 class="theme-p-title theme-color3" data-clicktarget="#" data-target="title">&nbsp\; &nbsp\; &nbsp\; &nbsp\; Network - Learn - Grow</h2>\n\n<div class="theme-p  theme-color-4" data-target="content">\n<p>Mark you calendar&#39\;s for the August Business After Hours hosted by Bank of the Pacific! Their hometown service and dedication to the Harbor goes above and beyond\, ensuring longevity for many years to come.</p>\n\n<p>&nbsp\;</p>\n\n<p>Business After Hours offers members and prospective members alike the chance to meet colleagues in an engaging and unique atmosphere. Each month our host presents the attendees with an opportunity to introduce their business or products in their own distinctive manner. There is sure to be great conversation and connecting at the July Business After Hours!</p>\n</div>\n
LOCATION:Bank of the Pacific 300 East Market St. Aberdeen\, WA
UID:e.26.8057
SEQUENCE:3
DTSTAMP:20260425T230125Z
URL:https://chamber.graysharbor.org/events/details/business-after-hours-8057
END:VEVENT

END:VCALENDAR
