BEGIN:VCALENDAR
VERSION:2.0
PRODID:-//ChamberMaster//Event Calendar 2.0//EN
METHOD:PUBLISH
X-PUBLISHED-TTL:P3D
REFRESH-INTERVAL:P3D
CALSCALE:GREGORIAN
BEGIN:VEVENT
DTSTART:20170913T003000Z
DTEND:20170913T020000Z
X-MICROSOFT-CDO-ALLDAYEVENT:FALSE
SUMMARY:Business After Hours
DESCRIPTION:Network - Learn - Grow\n\n\nCome out to Tokeland for a very exciting September Business After Hours! This month's event will be hosted by Shoalwater Bay Casino in their ever popular "Sand Verbena Restaurant".\n\n \n\nEnjoy a fun evening with other local community members in the most entertaining\, yet peaceful locations on the Washington Coast. After the event\, take part in a guided tour of the newly renovated casino facility.\n\n \n\nPlease note: The casino will have their shuttle service available leaving from Shoppes at Riverside at 4:30 PM to the first 12 people who RSVP to GGHI: Please Call - (360) 532-7888.\n\n \n\nBusiness After Hours offers members and prospective members alike the chance to meet colleagues in an engaging and unique atmosphere. Each month our host presents the attendees with an opportunity to introduce their business or products in their own distinctive manner. There is sure to be great conversation and connecting at the September Business After Hours!\n\n\n\n\n\nNetworking\n\n\n\n	Free Admission
X-ALT-DESC;FMTTYPE=text/html:<div class="_2qgs" style="color: rgb(75\, 79\, 86)\; padding: 12px\; position: relative\; border-top: none\; font-family: Helvetica\, Arial\, sans-serif\; font-size: 12px\;">\n<h2 class="theme-p-title theme-color3" data-clicktarget="#" data-target="title" style="margin: 0px\; padding: 5px 0px 10px\; font-size: 25px\; font-weight: 400\; line-height: 1.15em\; word-wrap: break-word\; color: rgb(34\, 34\, 34)\; font-family: sm_ropa-nn\, Helvetica\, Arial\, sans-serif\; background-color: rgb(255\, 255\, 255)\;">Network - Learn - Grow</h2>\n\n<div class="theme-p  theme-color-4" data-target="content" style="margin: 0px\; padding: 0px 0px 12px\; font-family: &quot\;Open Sans&quot\;\, &quot\;Lucida Grande&quot\;\, arial\, sans-serif\; line-height: 1.55\; font-size: 14px\; word-wrap: break-word\; color: rgb(102\, 102\, 102)\; background-color: rgb(255\, 255\, 255)\;">\n<p style="margin: 0px\; padding: 0px\;">Come out to Tokeland for a very exciting September Business After Hours! This month&#39\;s event will be hosted by Shoalwater Bay Casino in their ever popular &quot\;Sand Verbena Restaurant&quot\;.</p>\n\n<p style="margin: 0px\; padding: 0px\;">&nbsp\;</p>\n\n<p style="margin: 0px\; padding: 0px\;">Enjoy a fun evening with other local community members in the most entertaining\, yet peaceful locations on the Washington Coast. After the event\, take part in a guided tour of the newly renovated casino facility.</p>\n\n<p style="margin: 0px\; padding: 0px\;">&nbsp\;</p>\n\n<p style="margin: 0px\; padding: 0px\;"><span style="font-style: inherit\; font-weight: 700\;">Please note:</span>&nbsp\;The casino will have their&nbsp\;<em style="font-weight: inherit\;">shuttle service</em>&nbsp\;available leaving from Shoppes at Riverside at 4:30 PM to the<em style="font-weight: inherit\;">&nbsp\;first 12 people</em>&nbsp\;who RSVP to GGHI: Please Call - (360) 532-7888.</p>\n\n<p style="margin: 0px\; padding: 0px\;">&nbsp\;</p>\n\n<p style="margin: 0px\; padding: 0px\;">Business After Hours offers members and prospective members alike the chance to meet colleagues in an engaging and unique atmosphere. Each month our host presents the attendees with an opportunity to introduce their business or products in their own distinctive manner. There is sure to be great conversation and connecting at the September Business After Hours!</p>\n</div>\n<br />\n<br />\n<a href="https://www.facebook.com/events/discovery/?acontext=%7B%22ref%22%3A44%2C%22unit_ref%22%3A%22related_events%22%2C%22source%22%3A1%2C%22action_history%22%3A%22%5B%7B%5C%22surface%5C%22%3A%5C%22permalink%5C%22%2C%5C%22mechanism%5C%22%3A%5C%22RHC%5C%22%2C%5C%22extra_data%5C%22%3A%5B%5D%7D%2C%7B%5C%22surface%5C%22%3A%5C%22permalink%5C%22%2C%5C%22mechanism%5C%22%3A%5C%22surface%5C%22%2C%5C%22extra_data%5C%22%3A%5B%5D%7D%2C%7B%5C%22surface%5C%22%3A%5C%22permalink%5C%22%2C%5C%22mechanism%5C%22%3A%5C%22event_information%5C%22%2C%5C%22extra_data%5C%22%3A%7B%5C%22tag%5C%22%3A%5C%22Networking%5C%22%7D%7D%5D%22%2C%22has_source%22%3Atrue%7D&amp\;suggestion_token=%7B%22event_categories%22%3A%5B1915104302042536%5D%7D" style="color: rgb(54\, 88\, 153)\; cursor: pointer\; text-decoration-line: none\; font-family: inherit\;"><span class="_47od" style="background-color: rgb(237\, 242\, 250)\; border-radius: 2px\; color: rgb(32\, 55\, 95)\; display: block\; height: 14px\; line-height: 14px\; margin: 0px 4px 4px 0px\; padding: 4px 6px\; position: relative\; font-family: inherit\;">Networking</span></a></div>\n\n<div class="_1r51" style="line-height: 24px\; margin: 4px 12px 12px\; min-height: 24px\; font-family: Helvetica\, Arial\, sans-serif\; color: rgb(29\, 33\, 41)\; font-size: 12px\;">\n<ul class="uiList uiCollapsedList uiCollapsedListHidden _509- _4ki" id="u_jsonp_4_12" style="list-style-type: none\; margin: 0px\; padding: 0px\;">\n	<li style="border-width: 0px 0px 0px 1px\; display: inline-block\; vertical-align: top\;"><a href="https://www.facebook.com/events/discovery/?acontext=%7B%22ref%22%3A44%2C%22unit_ref%22%3A%22related_events%22%2C%22source%22%3A1%2C%22action_history%22%3A%22%5B%7B%5C%22surface%5C%22%3A%5C%22permalink%5C%22%2C%5C%22mechanism%5C%22%3A%5C%22RHC%5C%22%2C%5C%22extra_data%5C%22%3A%5B%5D%7D%2C%7B%5C%22surface%5C%22%3A%5C%22permalink%5C%22%2C%5C%22mechanism%5C%22%3A%5C%22surface%5C%22%2C%5C%22extra_data%5C%22%3A%5B%5D%7D%2C%7B%5C%22surface%5C%22%3A%5C%22permalink%5C%22%2C%5C%22mechanism%5C%22%3A%5C%22event_information%5C%22%2C%5C%22extra_data%5C%22%3A%7B%5C%22tag%5C%22%3A%5C%22Free+Admission%5C%22%7D%7D%5D%22%2C%22has_source%22%3Atrue%7D&amp\;suggestion_token=%7B%22event_flags%22%3A%5B%22free%22%5D%7D" style="color: rgb(54\, 88\, 153)\; cursor: pointer\; text-decoration-line: none\; font-family: inherit\;"><span class="_47od" style="background-color: rgb(237\, 242\, 250)\; border-radius: 2px\; color: rgb(32\, 55\, 95)\; display: block\; height: 14px\; line-height: 14px\; margin: 0px 4px 4px 0px\; padding: 4px 6px\; position: relative\; font-family: inherit\;">Free Admission</span></a></li>\n</ul>\n</div>\n
LOCATION:Sand Verbena Restaurant 4115 State Route 105 Tokeland\, WA
UID:e.26.8171
SEQUENCE:3
DTSTAMP:20260425T213724Z
URL:https://chamber.graysharbor.org/events/details/business-after-hours-8171
END:VEVENT

END:VCALENDAR
