BEGIN:VCALENDAR
VERSION:2.0
PRODID:-//ChamberMaster//Event Calendar 2.0//EN
METHOD:PUBLISH
X-PUBLISHED-TTL:P3D
REFRESH-INTERVAL:P3D
CALSCALE:GREGORIAN
BEGIN:VEVENT
DTSTART:20171115T013000Z
DTEND:20171115T033000Z
X-MICROSOFT-CDO-ALLDAYEVENT:FALSE
SUMMARY:Business After Hours
DESCRIPTION:CELEBRATING 20 YEARS!\n\nCome out to Jodesha Broadcasting and help them celebrate 20 years in the Harbor! With six stations in two counties\, Jodesha has helped businesses grow while ensuring that local stations remain in local ownership. "Boss Bill" will also be presented with the "John Loyal -Spirit of Community" award for all he has contributed to the Grays Harbor Community.\n \n\nBusiness After Hours offers members and prospective members alike the chance to meet colleagues in an engaging and unique atmosphere. Each month our host presents the attendees with an opportunity to introduce their business or products in their own distinctive manner. There is sure to be great conversation and connecting at the November Business After Hours!
X-ALT-DESC;FMTTYPE=text/html:<h2 class="theme-p-title theme-color3" data-clicktarget="#" data-target="title" style="margin: 0px\; padding: 5px 0px 10px\; color: rgb(50\, 103\, 163)\; text-transform: uppercase\; line-height: 1.2\; font-family: sm_pluto-5n\, Arial\, sans-serif\; font-size: 2.5em\; font-weight: 400\; -ms-word-wrap: break-word\; background-color: rgb(233\, 233\, 233)\;">CELEBRATING 20 YEARS!</h2>\n\n<div class="theme-p  theme-color-4" data-target="content" style="margin: 0px\; padding: 0px 0px 12px\; color: rgb(94\, 94\, 94)\; line-height: 1.55\; font-family: &quot\;Open Sans&quot\;\, &quot\;Lucida Grande&quot\;\, arial\, sans-serif\; font-size: 1.5em\; -ms-word-wrap: break-word\; background-color: rgb(233\, 233\, 233)\;">Come out to Jodesha Broadcasting and help them celebrate 20 years in the Harbor! With six stations in two counties\, Jodesha has helped businesses grow while ensuring that local stations remain in local ownership. &quot\;Boss Bill&quot\; will also be presented with the &quot\;John Loyal -Spirit of Community&quot\; award for all he has contributed to the Grays Harbor Community.\n<p style="margin: 0px\; padding: 0px\;">&nbsp\;</p>\n\n<p style="margin: 0px\; padding: 0px\;">Business After Hours offers members and prospective members alike the chance to meet colleagues in an engaging and unique atmosphere. Each month our host presents the attendees with an opportunity to introduce their business or products in their own distinctive manner. There is sure to be great conversation and connecting at the November Business After Hours!</p>\n</div>\n
LOCATION:Jodesha Broadcasting 1520 Simpson Ave. Aberdeen
UID:e.26.8333
SEQUENCE:3
DTSTAMP:20260425T181132Z
URL:https://chamber.graysharbor.org/events/details/business-after-hours-8333
END:VEVENT

END:VCALENDAR
