BEGIN:VCALENDAR
VERSION:2.0
PRODID:-//ChamberMaster//Event Calendar 2.0//EN
METHOD:PUBLISH
X-PUBLISHED-TTL:P3D
REFRESH-INTERVAL:P3D
CALSCALE:GREGORIAN
BEGIN:VEVENT
DTSTART:20180110T013000Z
DTEND:20180110T030000Z
X-MICROSOFT-CDO-ALLDAYEVENT:FALSE
SUMMARY:Business After Hours
DESCRIPTION:Please join Greater Grays Harbor and local community members at the first Business After Hours of the New Year! Westhaven Villa will be the host of this exciting event.\n\nLearn more about Westhaven Villa here: http://www.acaringplace.net/westhaven-villa.html
X-ALT-DESC;FMTTYPE=text/html:Please join Greater Grays Harbor and local community members at the first Business After Hours of the New Year! Westhaven Villa will be the host of this exciting event.<br />\nLearn more about Westhaven&nbsp\;Villa here:&nbsp\;http://www.acaringplace.net/westhaven-villa.html
LOCATION:Westhaven Villa 1000 Anderson Drive Aberdeen\, WA 98520
UID:e.26.9430
SEQUENCE:3
DTSTAMP:20260425T145449Z
URL:https://chamber.graysharbor.org/events/details/business-after-hours-9430
END:VEVENT

END:VCALENDAR
