BEGIN:VCALENDAR
VERSION:2.0
PRODID:-//ChamberMaster//Event Calendar 2.0//EN
METHOD:PUBLISH
X-PUBLISHED-TTL:P3D
REFRESH-INTERVAL:P3D
CALSCALE:GREGORIAN
BEGIN:VEVENT
DTSTART:20170510T003000Z
DTEND:20170510T020000Z
X-MICROSOFT-CDO-ALLDAYEVENT:FALSE
SUMMARY:Business After Hours
DESCRIPTION:A Collection of New and Old\n\nJoin alder|creative at the Aberdeen Museum of History for an exciting evening of celebrating local history as well as the future of local business!\n\n\n\nYou will get a first chance glimpse at the Grays Harbor Museum Association Passport\, designed by alder|creative\, before its official launch in June. Plus\, a few other a|c clients will be showing up and showing off their products and the accompanying design work that has helped them build their businesses.\n\n\n\nSteam Donkey Brewing Company will also be at this event!\n\n\n\nBusiness After Hours offers members and prospective members alike the chance to meet colleagues in an engaging\, unique atmosphere. Each month our host presents the attendees with an opportunity to introduce their business or products in their own distinctive manner. There is sure to be great conversation and connecting at Business After Hours!
X-ALT-DESC;FMTTYPE=text/html:<span class="_4n-j _fbReactionComponent__eventDetailsContentTags fsl" data-testid="event-permalink-details"><u><strong>A Collection of New and Old</strong></u><br />\nJoin alder|creative at the Aberdeen Museum of History for an exciting evening of celebrating local history as well as the future of local business!<br />\n<br />\nYou will get a first chance glimpse at the Grays Harbor Museum Association Passport\, designed by alder|creative\, before its official launch in June. Plus\, a few other a|c clients will be showing up and showing off their products and the accompanying design work that has helped them build their businesses.</span><br />\n<br />\n<em>Steam Donkey Brewing Company</em> will also be at this event!<br />\n<br />\nBusiness After Hours offers members and prospective members alike the chance to meet colleagues in an engaging\, unique atmosphere. Each month our host presents the attendees with an opportunity to introduce their business or products in their own distinctive manner. There is sure to be great conversation and connecting at Business After Hours!
LOCATION:Aberdeen Museum of History 111 E Third St. Aberdeen\, WA
UID:e.26.6012
SEQUENCE:3
DTSTAMP:20260426T033057Z
URL:https://chamber.graysharbor.org/events/details/business-after-hours-gh-wine-sellars-05-09-2017-6012
END:VEVENT

END:VCALENDAR
