BEGIN:VCALENDAR
VERSION:2.0
PRODID:-//ChamberMaster//Event Calendar 2.0//EN
METHOD:PUBLISH
X-PUBLISHED-TTL:P3D
REFRESH-INTERVAL:P3D
CALSCALE:GREGORIAN
BEGIN:VEVENT
DTSTART:20260128T003000Z
DTEND:20260128T023000Z
X-MICROSOFT-CDO-ALLDAYEVENT:FALSE
SUMMARY:Business Development Class – Native Artist Talking Circle
DESCRIPTION:Join us Tuesday\, January 27th\, 4:30 6:30 PM at the Chehalis Tribal Loan Fund Office for a supportive Native Artist Talking Circle focused on reflection\, vision\, and setting intentions for the year ahead.\n\n\n\nThis is a safe space to share your goals\, connect with other artists\, and gain clarity and confidence moving forward. Walk-ins are welcome\, and a hybrid Zoom option is available.
X-ALT-DESC;FMTTYPE=text/html:<div class="xdj266r x14z9mp xat24cr x1lziwak x1vvkbs x126k92a" style="overflow-wrap: break-word\; white-space-collapse: preserve\; margin-inline: 0px\; margin-bottom: 0px\; margin-top: 0px\; font-family: &quot\;Segoe UI Historic&quot\;\, &quot\;Segoe UI&quot\;\, Helvetica\, Arial\, sans-serif\; color: rgb(8\, 8\, 9)\; font-size: 15px\;">\n<div dir="auto" style="font-family: inherit\;"><span style="font-size:14px\;">Join us Tuesday\, January 27th\, 4:30&ndash\;6:30 PM at the Chehalis Tribal Loan Fund Office for a supportive Native Artist Talking Circle focused on reflection\, vision\, and setting intentions for the year ahead.</span></div>\n</div>\n\n<div class="x14z9mp xat24cr x1lziwak x1vvkbs xtlvy1s x126k92a" style="overflow-wrap: break-word\; white-space-collapse: preserve\; margin-top: 0.5em\; margin-inline: 0px\; margin-bottom: 0px\; font-family: &quot\;Segoe UI Historic&quot\;\, &quot\;Segoe UI&quot\;\, Helvetica\, Arial\, sans-serif\; color: rgb(8\, 8\, 9)\; font-size: 15px\;">\n<div dir="auto" style="font-family: inherit\;"><span style="font-size:14px\;">This is a safe space to share your goals\, connect with other artists\, and gain clarity and confidence moving forward. Walk-ins are welcome\, and a hybrid Zoom option is available.</span></div>\n</div>\n
LOCATION:Chehalis Tribal Loan Fund Office 214 E Pine St. Oakville\, WA 98568
UID:e.26.16382
SEQUENCE:3
DTSTAMP:20260423T191800Z
URL:https://chamber.graysharbor.org/events/details/business-development-class-native-artist-talking-circle-16382
END:VEVENT

END:VCALENDAR
