BEGIN:VCALENDAR
VERSION:2.0
PRODID:-//ChamberMaster//Event Calendar 2.0//EN
METHOD:PUBLISH
X-PUBLISHED-TTL:P3D
REFRESH-INTERVAL:P3D
CALSCALE:GREGORIAN
BEGIN:VEVENT
DTSTART:20180424T183000Z
DTEND:20180424T200000Z
X-MICROSOFT-CDO-ALLDAYEVENT:FALSE
SUMMARY:Business Forum Lunch
DESCRIPTION:Business Forum Lunch Topic: Addressing the Grays Harbor Housing Crisis\n\n\n\nPlease join Greater Grays Harbor\, Inc. for a special Business Forum Lunch presentation "Understanding the Housing Crisis in Grays Harbor and Rural Washington." Please note the forum will be held in Hoquiam this month at Immanuel Baptist Church and catered by O'Brien's.\n\n\n\nOur goal is to provide a greater understanding of some of the underlying factors that are contributing to the housing crisis in our county. We will be discussing the need for additional housing for both low and moderate income levels\, with an emphasis on how it is affecting employee recruitment and retention\, and possible solutions to address this growing problem.\n\n\n\nWe are privileged to host the following panelists as we take a closer look at this issue:\n\nModerator: Kyle Pauley\, Alpha Media Grays Harbor\n\nRep. Jim Walsh\, 19th Legislative District\n\nBrian Smith\, Senior VP\, Timberland Bank\n\nJoel Cole\, Owner\, Joel Cole Construction\n\nTBD\, WA State Housing Finance Commission\n\nCassie Lentz\, Housing Resource Coordinator\, Grays Harbor County\n\n\n\n***Please RSVP to GGHI no later than Friday\, April 13th by calling (360) 532-7888.
X-ALT-DESC;FMTTYPE=text/html:<span style="color: rgb(75\, 79\, 86)\; font-family: Helvetica\, Arial\, sans-serif\; font-size: 14px\; background-color: rgb(255\, 255\, 255)\;">Business Forum Lunch Topic: Addressing the Grays Harbor Housing Crisis</span><br style="color: rgb(75\, 79\, 86)\; font-family: Helvetica\, Arial\, sans-serif\; font-size: 14px\; background-color: rgb(255\, 255\, 255)\;" />\n<br style="color: rgb(75\, 79\, 86)\; font-family: Helvetica\, Arial\, sans-serif\; font-size: 14px\; background-color: rgb(255\, 255\, 255)\;" />\n<span style="color: rgb(75\, 79\, 86)\; font-family: Helvetica\, Arial\, sans-serif\; font-size: 14px\; background-color: rgb(255\, 255\, 255)\;">Please join Greater Grays Harbor\, Inc. for a special Business Forum Lunch presentation &ldquo\;Understanding the Housing Crisis in Grays Harbor and Rural Washington.&rdquo\; Please note the forum will be held in Hoquiam this month at Immanuel Baptist Church and catered by O&#39\;Brien&#39\;s.</span><br style="color: rgb(75\, 79\, 86)\; font-family: Helvetica\, Arial\, sans-serif\; font-size: 14px\; background-color: rgb(255\, 255\, 255)\;" />\n<br style="color: rgb(75\, 79\, 86)\; font-family: Helvetica\, Arial\, sans-serif\; font-size: 14px\; background-color: rgb(255\, 255\, 255)\;" />\n<span style="color: rgb(75\, 79\, 86)\; font-family: Helvetica\, Arial\, sans-serif\; font-size: 14px\; background-color: rgb(255\, 255\, 255)\;">Our goal is to provide a greater understanding of some of the underlying factors that are contributing to the housing crisis in our county. We will be discussing the need for additional housing for both low and moderate income levels\, with an emphasis on how it is affecting employee recruitment and retention\, and possible solutions to address this growing problem.</span><br style="color: rgb(75\, 79\, 86)\; font-family: Helvetica\, Arial\, sans-serif\; font-size: 14px\; background-color: rgb(255\, 255\, 255)\;" />\n<br style="color: rgb(75\, 79\, 86)\; font-family: Helvetica\, Arial\, sans-serif\; font-size: 14px\; background-color: rgb(255\, 255\, 255)\;" />\n<span style="color: rgb(75\, 79\, 86)\; font-family: Helvetica\, Arial\, sans-serif\; font-size: 14px\; background-color: rgb(255\, 255\, 255)\;">We are pr</span><span class="text_exposed_show" style="display: inline\; font-family: Helvetica\, Arial\, sans-serif\; color: rgb(75\, 79\, 86)\; font-size: 14px\; background-color: rgb(255\, 255\, 255)\;">ivileged to host the following panelists as we take a closer look at this issue:<br />\nModerator: Kyle Pauley\, Alpha Media Grays Harbor<br />\nRep. Jim Walsh\, 19th Legislative District<br />\nBrian Smith\, Senior VP\, Timberland Bank<br />\nJoel Cole\, Owner\, Joel Cole Construction<br />\nTBD\, WA State Housing Finance Commission<br />\nCassie Lentz\, Housing Resource Coordinator\, Grays Harbor County<br />\n<br />\n***Please RSVP to GGHI no later than Friday\, April 13th by calling (360) 532-7888.</span>
LOCATION:pin Immanuel Baptist Church - Hoquiam 1200 Soule Ave\, Hoquiam\, Washington 98550
UID:e.26.10601
SEQUENCE:3
DTSTAMP:20260425T113453Z
URL:https://chamber.graysharbor.org/events/details/business-forum-lunch-10601
END:VEVENT

END:VCALENDAR
