BEGIN:VCALENDAR
VERSION:2.0
PRODID:-//ChamberMaster//Event Calendar 2.0//EN
METHOD:PUBLISH
X-PUBLISHED-TTL:P3D
REFRESH-INTERVAL:P3D
CALSCALE:GREGORIAN
BEGIN:VEVENT
DTSTART:20190226T193000Z
DTEND:20190226T210000Z
X-MICROSOFT-CDO-ALLDAYEVENT:FALSE
SUMMARY:Business Forum Lunch
DESCRIPTION:GGHI MEMBERSHIP MEETING \n\n\nMark your calendars for the upcoming Greater Grays Harbor\, Inc. annual Membership Meeting\, featuring a special presentation by CEO Dru Garson. He will speak about the current projects that GGHI is spearheading\, including what the organization hopes to accomplish in 2019 as well as GGHI's Three Year Strategic Plan\n\n \n\nThis meeting will offer a unique opportunity for GGHI members and Grays Harbor citizens to talk directly with the GGHI board and staff. Come learn more about the work that GGHI does to build an economically vibrant community.\n\n \n\nThe annual Membership Meeting will take place on February 26th from 11:30 a.m. to 1:00 p.m. at the Rotary Log Pavilion in Aberdeen. Lunch is included and will be catered by Aloha Alabama.
X-ALT-DESC;FMTTYPE=text/html:<h2 class="theme-p-title theme-color3" data-clicktarget="#" data-target="title" style="margin: 0px\; padding: 5px 0px 10px\; font-size: 2.5em\; font-weight: 400\; line-height: 1.2\; word-wrap: break-word\; text-transform: uppercase\; font-family: sm_pluto-5n\, Arial\, sans-serif\; color: rgb(96\, 160\, 200)\;"><span style="font-size:14px\;"><span style="font-family:arial\;">GGHI MEMBERSHIP MEETING&nbsp\;</span></span></h2>\n\n<div class="theme-p  theme-color-4" data-target="content" style="margin: 0px\; padding: 0px 0px 12px\; font-family: Roboto\, &quot\;Lucida Grande&quot\;\, arial\, sans-serif\; line-height: 1.55\; font-size: 1.5em\; word-wrap: break-word\; color: rgb(94\, 94\, 94)\;">\n<p style="margin: 0px\; padding: 0px\;"><span style="font-size:14px\;"><span style="font-family:arial\;">Mark your calendars for the upcoming Greater Grays Harbor\, Inc. annual Membership Meeting\, featuring a special presentation by CEO Dru Garson. He will speak about the current projects that GGHI is spearheading\, including what the organization hopes to accomplish in 2019 as well as GGHI&#39\;s Three Year Strategic Plan</span></span></p>\n\n<p style="margin: 0px\; padding: 0px\;">&nbsp\;</p>\n\n<p style="margin: 0px\; padding: 0px\;"><span style="font-size:14px\;"><span style="font-family:arial\;">This meeting will offer a unique opportunity for GGHI members and Grays Harbor citizens to talk directly with the GGHI board and staff. Come learn more about the work that GGHI does to build an economically vibrant community.</span></span></p>\n\n<p style="margin: 0px\; padding: 0px\;">&nbsp\;</p>\n\n<p style="margin: 0px\; padding: 0px\;"><span style="font-size:14px\;"><span style="font-family:arial\;">The annual Membership Meeting will take place on February 26th from 11:30 a.m. to 1:00 p.m. at the Rotary Log Pavilion in Aberdeen. Lunch is included and will be catered by Aloha Alabama.&nbsp\;</span></span></p>\n</div>\n
LOCATION:Rotary Log Pavilion 1401 Sargent Blvd. Aberdeen\, WA
UID:e.26.11716
SEQUENCE:3
DTSTAMP:20260424T181448Z
URL:https://chamber.graysharbor.org/events/details/business-forum-lunch-11716
END:VEVENT

END:VCALENDAR
