BEGIN:VCALENDAR
VERSION:2.0
PRODID:-//ChamberMaster//Event Calendar 2.0//EN
METHOD:PUBLISH
X-PUBLISHED-TTL:P3D
REFRESH-INTERVAL:P3D
CALSCALE:GREGORIAN
BEGIN:VEVENT
DTSTART:20190326T183000Z
DTEND:20190326T200000Z
X-MICROSOFT-CDO-ALLDAYEVENT:FALSE
SUMMARY:Business Forum Lunch
DESCRIPTION:The Greater Grays Harbor March Business Forum Lunch is just around the corner! Coastal Community Action Program (CCAP) will provide an update on their program activities and recovery efforts after the tragic loss of their facility last year and will also talk about their plans for the future.\n\n\n\nCCAP works with low income individuals and families to remove the barriers that prevent them from achieving economic stability in Grays Harbor and Pacific Counties.
X-ALT-DESC;FMTTYPE=text/html:<p dir="ltr" style="line-height: 1.38\; margin-top: 0pt\; margin-bottom: 0pt\;"><span style="font-size:16px\;"><span style="font-family:arial\;"><span style="caret-color: rgb(34\, 34\, 34)\; color: rgb(34\, 34\, 34)\;">The Greater Grays Harbor March Business Forum Lunch is just around the corner! Coastal Community Action Program (CCAP) will provide an update on their program activities and recovery efforts after the tragic loss of their facility last year and will also talk about their plans for the future.</span></span></span></p>\n\n<p dir="ltr" style="line-height: 1.38\; margin-top: 0pt\; margin-bottom: 0pt\;"><br />\n<span style="font-size:16px\;"><span id="docs-internal-guid-8cf47a1f-7fff-d3b5-a86a-2a68eb8a1b41" style="caret-color: rgb(0\, 0\, 0)\; color: rgb(0\, 0\, 0)\; font-family: -webkit-standard\;"><span style="font-family: Arial\; color: rgb(51\, 51\, 51)\; font-variant-ligatures: normal\; font-variant-east-asian: normal\; font-variant-position: normal\; vertical-align: baseline\; white-space: pre-wrap\;">CCAP works with low income individuals and families to remove the barriers that prevent them from achieving economic stability in Grays Harbor and Pacific Counties.</span></span></span></p>\n<br style="caret-color: rgb(0\, 0\, 0)\; color: rgb(0\, 0\, 0)\; font-family: -webkit-standard\;" />\n&nbsp\;
LOCATION:Rotary Log Pavilion 1401 Sargent Blvd. Aberdeen\, WA
UID:e.26.11791
SEQUENCE:3
DTSTAMP:20260424T163355Z
URL:https://chamber.graysharbor.org/events/details/business-forum-lunch-11791
END:VEVENT

END:VCALENDAR
