BEGIN:VCALENDAR
VERSION:2.0
PRODID:-//ChamberMaster//Event Calendar 2.0//EN
METHOD:PUBLISH
X-PUBLISHED-TTL:P3D
REFRESH-INTERVAL:P3D
CALSCALE:GREGORIAN
BEGIN:VEVENT
DTSTART:20190423T183000Z
DTEND:20190423T200000Z
X-MICROSOFT-CDO-ALLDAYEVENT:FALSE
SUMMARY:Business Forum Lunch
DESCRIPTION:This month's Business Forum Lunch will feature a representative from Seabrook who will be providing an update on their recent developments and expansions over the past few years.\n\n \n\nSince its' establishment in 2004\, Seabrook has grown tremendously. Jaclyn Stevenson\, Retail Property Manager\, will be the guest speaker at the luncheon. Her presentation will provide an update on current projects and activities\, including their vacation rental properties and home sales\, neighborhood\, park and amenity additions and their new Main Street expansion (home to future restaurants and retail stores). \n\n \n\nThe BFL will take place on Tuesday\, April 23rd from 11:30 a.m. to 1:00 p.m. at the Rotary Log Pavilion in Aberdeen. RSVP's must be made by no later than Wednesday\, April 17th.\n\n \n\nPricing: $20 for GGHI members / $30 for non-members. Lunch is included and will be catered by Aloha Alabama.
X-ALT-DESC;FMTTYPE=text/html:<p style="margin: 0px\; padding: 0px\; caret-color: rgb(85\, 85\, 85)\; color: rgb(85\, 85\, 85)\; font-family: Roboto\, &quot\;Lucida Grande&quot\;\, arial\, sans-serif\; font-size: 15px\;"><span style="font-size:14px\;"><span style="font-family:arial\;">This month&rsquo\;s Business Forum Lunch will feature a representative from Seabrook who will be providing an update on their recent developments and expansions over the past few years.</span></span><br />\n&nbsp\;</p>\n\n<p style="margin: 0px\; padding: 0px\; caret-color: rgb(85\, 85\, 85)\; color: rgb(85\, 85\, 85)\; font-family: Roboto\, &quot\;Lucida Grande&quot\;\, arial\, sans-serif\; font-size: 15px\;"><span style="font-size:14px\;"><span style="font-family:arial\;">Since its&rsquo\; establishment in 2004\, Seabrook has grown tremendously. Jaclyn Stevenson\, Retail Property Manager\, will be the guest speaker at the luncheon. Her presentation will provide an update on current projects and activities\, including their vacation rental properties and home sales\, neighborhood\, park and amenity additions and their new Main Street expansion (home to future restaurants and retail stores).&nbsp\;</span></span></p>\n\n<p style="margin: 0px\; padding: 0px\; caret-color: rgb(85\, 85\, 85)\; color: rgb(85\, 85\, 85)\; font-family: Roboto\, &quot\;Lucida Grande&quot\;\, arial\, sans-serif\; font-size: 15px\;">&nbsp\;</p>\n\n<p style="margin: 0px\; padding: 0px\; caret-color: rgb(85\, 85\, 85)\; color: rgb(85\, 85\, 85)\; font-family: Roboto\, &quot\;Lucida Grande&quot\;\, arial\, sans-serif\; font-size: 15px\;"><span style="font-size:14px\;"><span style="font-family:arial\;">The BFL will take place on Tuesday\, April 23rd from 11:30 a.m. to 1:00 p.m. at the Rotary Log Pavilion in Aberdeen. RSVP&rsquo\;s must be made by no later than Wednesday\, April 17th.</span></span></p>\n\n<p style="margin: 0px\; padding: 0px\; caret-color: rgb(85\, 85\, 85)\; color: rgb(85\, 85\, 85)\; font-family: Roboto\, &quot\;Lucida Grande&quot\;\, arial\, sans-serif\; font-size: 15px\;">&nbsp\;</p>\n\n<p style="margin: 0px\; padding: 0px\; caret-color: rgb(85\, 85\, 85)\; color: rgb(85\, 85\, 85)\; font-family: Roboto\, &quot\;Lucida Grande&quot\;\, arial\, sans-serif\; font-size: 15px\;"><span style="font-size:14px\;"><span style="font-family:arial\;">Pricing: $20 for GGHI members / $30 for non-members. Lunch is included and will be catered by Aloha Alabama.</span></span></p>\n
LOCATION:Rotary Log Pavilion 1401 Sargent Blvd Aberdeen\, WA
UID:e.26.11898
SEQUENCE:3
DTSTAMP:20260424T151021Z
URL:https://chamber.graysharbor.org/events/details/business-forum-lunch-11898
END:VEVENT

END:VCALENDAR
