BEGIN:VCALENDAR
VERSION:2.0
PRODID:-//ChamberMaster//Event Calendar 2.0//EN
METHOD:PUBLISH
X-PUBLISHED-TTL:P3D
REFRESH-INTERVAL:P3D
CALSCALE:GREGORIAN
BEGIN:VEVENT
DTSTART:20190528T183000Z
DTEND:20190528T200000Z
X-MICROSOFT-CDO-ALLDAYEVENT:FALSE
SUMMARY:Business Forum Lunch
DESCRIPTION:The Current Challenge of Funding Education in Grays Harbor\n\n\n\nSince the "McCleary fix" was passed last year\, many of our school districts have found themselves facing layoffs and drastic budget cuts as a result of this legislative action. This leads us to the question - why is this happening and what are our school districts doing to address this precarious situation?\n\n \n\n \n\nJoin Greater Grays Harbor as we discuss what led us to the current situation and how we can work toward solutions that address many of the inequities in funding that we currently face in our school districts in Grays Harbor. Our speakers will include Aberdeen School District Superintendent\, Dr. Alicia Henderson and Hoquiam School District Superintendent\, Dr. Mike Villarreal.\n\n \n\nThe Business Forum Lunch will take place on Tuesday\, May 28th from 11:30 a.m. to 1 p.m. at the Rotary Log Pavilion in Aberdeen. RSVP's must be made by no later than Wednesday\, May 22nd.\n\n \n\nPricing: $20 for GGHI members / $30 for non-members. Lunch is included and will be catered by Aloha Alabama.
X-ALT-DESC;FMTTYPE=text/html:<p style="caret-color: rgb(0\, 0\, 0)\; color: rgb(0\, 0\, 0)\; margin: 0px\; padding: 0px\; font-family: Roboto\, &quot\;Lucida Grande&quot\;\, arial\, sans-serif\; font-size: 14px\;"><span style="font-family:arial\;"><strong>The Current Challenge of Funding Education in Grays Harbor</strong><br />\n<br />\nSince the &ldquo\;McCleary fix&rdquo\; was passed last year\, many of our school districts have found themselves facing layoffs and drastic budget cuts as a result of this legislative action. This leads us to the question - why is this happening and what are our school districts doing to address this precarious situation?</span></p>\n\n<p style="caret-color: rgb(0\, 0\, 0)\; color: rgb(0\, 0\, 0)\; margin: 0px\; padding: 0px\; font-family: Roboto\, &quot\;Lucida Grande&quot\;\, arial\, sans-serif\; font-size: 14px\;">&nbsp\;</p>\n\n<p style="caret-color: rgb(0\, 0\, 0)\; color: rgb(0\, 0\, 0)\; margin: 0px\; padding: 0px\; font-family: Roboto\, &quot\;Lucida Grande&quot\;\, arial\, sans-serif\; font-size: 14px\;">&nbsp\;</p>\n\n<p style="caret-color: rgb(0\, 0\, 0)\; color: rgb(0\, 0\, 0)\; margin: 0px\; padding: 0px\; font-family: Roboto\, &quot\;Lucida Grande&quot\;\, arial\, sans-serif\; font-size: 14px\;"><span style="font-family:arial\;">Join Greater Grays Harbor as we discuss what led us to the current situation and how we can work toward solutions that address many of the inequities in funding that we currently face in our school districts in Grays Harbor. Our speakers will include Aberdeen School District Superintendent\, Dr. Alicia Henderson and Hoquiam School District Superintendent\, Dr. Mike Villarreal.</span></p>\n\n<p style="caret-color: rgb(0\, 0\, 0)\; color: rgb(0\, 0\, 0)\; margin: 0px\; padding: 0px\; font-family: Roboto\, &quot\;Lucida Grande&quot\;\, arial\, sans-serif\; font-size: 14px\;">&nbsp\;</p>\n\n<p style="caret-color: rgb(0\, 0\, 0)\; color: rgb(0\, 0\, 0)\; margin: 0px\; padding: 0px\; font-family: Roboto\, &quot\;Lucida Grande&quot\;\, arial\, sans-serif\; font-size: 14px\;"><span style="font-family:arial\;">The Business Forum Lunch will take place on Tuesday\, May 28th from 11:30 a.m. to 1 p.m. at the Rotary Log Pavilion in Aberdeen. RSVP&rsquo\;s must be made by no later than Wednesday\, May 22nd.</span></p>\n\n<p style="caret-color: rgb(0\, 0\, 0)\; color: rgb(0\, 0\, 0)\; margin: 0px\; padding: 0px\; font-family: Roboto\, &quot\;Lucida Grande&quot\;\, arial\, sans-serif\; font-size: 14px\;">&nbsp\;</p>\n\n<p style="caret-color: rgb(0\, 0\, 0)\; color: rgb(0\, 0\, 0)\; margin: 0px\; padding: 0px\; font-family: Roboto\, &quot\;Lucida Grande&quot\;\, arial\, sans-serif\; font-size: 14px\;"><span style="font-family:arial\;">Pricing: $20 for GGHI members / $30 for non-members. Lunch is included and will be catered by Aloha Alabama.</span></p>\n
LOCATION:Rotary Log Pavilion 1401 Sagent Blvd Aberdeen\, WA
UID:e.26.11971
SEQUENCE:3
DTSTAMP:20260424T150402Z
URL:https://chamber.graysharbor.org/events/details/business-forum-lunch-11971
END:VEVENT

END:VCALENDAR
