BEGIN:VCALENDAR
VERSION:2.0
PRODID:-//ChamberMaster//Event Calendar 2.0//EN
METHOD:PUBLISH
X-PUBLISHED-TTL:P3D
REFRESH-INTERVAL:P3D
CALSCALE:GREGORIAN
BEGIN:VEVENT
DTSTART:20190625T183000Z
DTEND:20190625T200000Z
X-MICROSOFT-CDO-ALLDAYEVENT:FALSE
SUMMARY:Business Forum Lunch
DESCRIPTION:LEADERSHIP GRAYS HARBOR 2019 - GRADUATION \n\n\nIn partnership with Greater Grays Harbor\, Inc.\, Grays Harbor College delivers the annual program\, Leadership Grays Harbor\, joining together community members from across the county. Each year\, the program completes a community service project which will be discussed at the luncheon. Join us as we recognize\, honor and learn more about the 23 graduates of the Leadership Class of 2019!\n\n \nReservations are requested by Wednesday\, June 19th\, 2019. Please call (360) 532-7888 to RSVP\, or simply RSVP online through this Smore flyer. \n\n \n\nPlease register for each individual attending from your organization. The cost is $20 for GGHI members / $25 for non-members Lunch is included and will be catered by Aloha Alabama. Leaders Circle members can send an attendee for free.
X-ALT-DESC;FMTTYPE=text/html:<h2 class="theme-p-title theme-color3" data-clicktarget="#" data-target="title" style="margin: 12px 0px 0px\; padding: 5px 0px 10px\; font-size: 2.5em\; line-height: 1.18\; word-wrap: break-word\; font-family: sm_gold-bn\, Arial\, sans-serif\; text-transform: uppercase\; color: rgb(130\, 130\, 130)\;"><span style="font-size:14px\;"><span style="font-family:arial\;">LEADERSHIP GRAYS HARBOR 2019 - GRADUATION&nbsp\;</span></span></h2>\n\n<div class="theme-p  theme-color-4" data-target="content" style="margin: 0px\; padding: 0px 0px 12px\; font-family: Roboto\, &quot\;Lucida Grande&quot\;\, arial\, sans-serif\; line-height: 1.55\; font-size: 1.5em\; word-wrap: break-word\; color: rgb(94\, 94\, 94)\;">\n<p style="margin: 0px\; padding: 0px\;"><span style="font-size:14px\;"><span style="font-family:arial\;">In partnership with Greater Grays Harbor\, Inc.\, Grays Harbor College delivers the annual program\,&nbsp\;<span style="font-style: italic\;">Leadership Grays Harbor\,&nbsp\;</span>joining together community members from across the county. Each year\, the program completes a community service project which will be discussed at the luncheon. Join us as we recognize\, honor and learn more about the 23 graduates of the Leadership Class<span style="font-style: italic\;">&nbsp\;</span>of 2019!</span></span></p>\n\n<p style="margin: 0px\; padding: 0px\;">&nbsp\;</p>\n<span style="font-size:14px\;"><span style="font-family:arial\;">Reservations are requested by<span style="font-style: italic\;">&nbsp\;Wednesday\, June 19th\, 2019</span>. Please call (360) 532-7888 to RSVP\, or simply RSVP online through this Smore flyer.&nbsp\;</span></span>\n\n<p style="margin: 0px\; padding: 0px\;">&nbsp\;</p>\n\n<p style="margin: 0px\; padding: 0px\;"><span style="font-size:14px\;"><span style="font-family:arial\;">Please register for each individual attending from your organization. The cost is $20 for GGHI members / $25 for non-members Lunch is included and will be catered by Aloha Alabama. Leaders Circle members can send an attendee for free.</span></span></p>\n</div>\n
LOCATION:Rotary Log Pavilion
UID:e.26.12035
SEQUENCE:3
DTSTAMP:20260424T115912Z
URL:https://chamber.graysharbor.org/events/details/business-forum-lunch-12035
END:VEVENT

END:VCALENDAR
