BEGIN:VCALENDAR
VERSION:2.0
PRODID:-//ChamberMaster//Event Calendar 2.0//EN
METHOD:PUBLISH
X-PUBLISHED-TTL:P3D
REFRESH-INTERVAL:P3D
CALSCALE:GREGORIAN
BEGIN:VEVENT
DTSTART:20190924T183000Z
DTEND:20190924T200000Z
X-MICROSOFT-CDO-ALLDAYEVENT:FALSE
SUMMARY:Business Forum Lunch
DESCRIPTION:BHP Billiton Canada Inc. (BHP) is evaluating the development of Terminal 3 at the Port of Grays Harbor for a potential potash export facility. Potash is a non-hazardous product mainly used as agricultural fertilizer to improve crop resilience and yield and is a key link in the global security food chain. The September 24th Business Forum Lunch will feature BHP employees who will discuss their project to redevelop the existing Terminal 3 industrial site to unload and store potash and ship to international markets.\n\n \n\nBHP is a leading global resources company with its headquarters located in Melbourne\, Australia and regional offices in Houston\, Texas and Washington\, DC. Subject to regulatory and BHP project approvals\, the potash would be received via rail from the BHP Jansen Potash Project in south-central Saskatchewan\, Canada. Potash would then be shipped to international markets via bulk ocean-going vessels. The Jansen Potash Mine is expected to produce upwards of 8 million tons per annum (Mtpa). \n\n\n\nTentative speakers at the luncheon include Trevor Heuer\, Senior Manager Studies on the Jansen Outbound Logistics Project in Saskatoon\, Saskatchewan as well as and Ken Smith\, Manager Corporate Affairs in Canada.
X-ALT-DESC;FMTTYPE=text/html:<p style="margin: 0px\; padding: 0px\; caret-color: rgb(85\, 85\, 85)\; color: rgb(85\, 85\, 85)\; font-family: Roboto\, &quot\;Lucida Grande&quot\;\, arial\, sans-serif\; font-size: 15px\;"><span style="font-family:arial\;"><a data-id="l-9780985103" href="http://www.bhp.com/" rel="nofollow" style="cursor: pointer\; color: rgb(28\, 110\, 152)\;" target="_blank">BHP Billiton Canada Inc.</a>&nbsp\;(BHP) is evaluating the development of Terminal 3 at the&nbsp\;<a data-id="l-2916419173" href="https://www.portofgraysharbor.com/" rel="nofollow" style="cursor: pointer\; color: rgb(28\, 110\, 152)\;" target="_blank">Port of Grays Harbor</a>&nbsp\;for a potential potash export facility. Potash is a non-hazardous product mainly used as agricultural fertilizer to improve crop resilience and yield and is a key link in the global security food chain.&nbsp\;The September 24th Business Forum Lunch will feature BHP employees who will discuss their project to redevelop the existing Terminal 3 industrial site to unload and store potash and ship to international markets.</span><br />\n&nbsp\;</p>\n\n<p style="margin: 0px\; padding: 0px\; caret-color: rgb(85\, 85\, 85)\; color: rgb(85\, 85\, 85)\; font-family: Roboto\, &quot\;Lucida Grande&quot\;\, arial\, sans-serif\; font-size: 15px\;"><span style="font-family:arial\;">BHP is a leading global resources company with its headquarters located in Melbourne\, Australia and regional offices in Houston\, Texas and Washington\, DC. Subject to regulatory and BHP project approvals\, the potash would be received via rail from the BHP Jansen Potash Project in south-central Saskatchewan\, Canada. Potash would then be shipped to international markets via bulk ocean-going vessels. The Jansen Potash Mine is expected to produce upwards of 8 million tons per annum (Mtpa).&nbsp\;</span></p>\n\n<p style="margin: 0px\; padding: 0px\; caret-color: rgb(85\, 85\, 85)\; color: rgb(85\, 85\, 85)\; font-family: Roboto\, &quot\;Lucida Grande&quot\;\, arial\, sans-serif\; font-size: 15px\;"><br />\n<span style="font-family:arial\;">Tentative speakers at the luncheon include Trevor Heuer\, Senior Manager Studies on the Jansen Outbound Logistics Project in Saskatoon\, Saskatchewan as well as and Ken Smith\, Manager Corporate Affairs in Canada.</span></p>\n\n<p style="margin: 0px\; padding: 0px\; caret-color: rgb(85\, 85\, 85)\; color: rgb(85\, 85\, 85)\; font-family: Roboto\, &quot\;Lucida Grande&quot\;\, arial\, sans-serif\; font-size: 15px\;">&nbsp\;</p>\n
LOCATION:Rotary Log Pavilion 1401 Sargent Blvd. Aberdeen\, WA
UID:e.26.12181
SEQUENCE:3
DTSTAMP:20260424T073827Z
URL:https://chamber.graysharbor.org/events/details/business-forum-lunch-12181
END:VEVENT

END:VCALENDAR
