BEGIN:VCALENDAR
VERSION:2.0
PRODID:-//ChamberMaster//Event Calendar 2.0//EN
METHOD:PUBLISH
X-PUBLISHED-TTL:P3D
REFRESH-INTERVAL:P3D
CALSCALE:GREGORIAN
BEGIN:VEVENT
DTSTART:20200225T193000Z
DTEND:20200225T210000Z
X-MICROSOFT-CDO-ALLDAYEVENT:FALSE
SUMMARY:Business Forum Lunch
DESCRIPTION:Greater Grays Harbor invites you to attend our Annual Membership Meeting\, featuring a special presentation by CEO Dru Garson.\n\n \n\nDru will provide highlights of the organization's work in 2019 and provide a glimpse into our plans for 2020. This meeting offers a unique opportunity for GGHI members and Grays Harbor residents to talk directly with the GGHI board and staff. Come learn how GGHI helps to build an economically vibrant community and have your questions answered.
X-ALT-DESC;FMTTYPE=text/html:<p style="margin: 0px\; padding: 0px\; caret-color: rgb(94\, 94\, 94)\; color: rgb(94\, 94\, 94)\; font-family: Roboto\, &quot\;Lucida Grande&quot\;\, arial\, sans-serif\; font-size: 15px\;">&nbsp\;</p>\n\n<p style="margin: 0px\; padding: 0px\; caret-color: rgb(102\, 102\, 102)\; color: rgb(102\, 102\, 102)\; font-family: Roboto\, &quot\;Lucida Grande&quot\;\, arial\, sans-serif\; font-size: 14px\;"><span style="color:#000000\;"><span style="font-size:14px\;"><span style="font-family:arial\;">Greater Grays Harbor invites you to attend our Annual Membership Meeting\, featuring a special presentation by CEO Dru Garson.</span></span></span></p>\n\n<p style="margin: 0px\; padding: 0px\; caret-color: rgb(102\, 102\, 102)\; color: rgb(102\, 102\, 102)\; font-family: Roboto\, &quot\;Lucida Grande&quot\;\, arial\, sans-serif\; font-size: 14px\;">&nbsp\;</p>\n\n<p style="margin: 0px\; padding: 0px\; caret-color: rgb(102\, 102\, 102)\; color: rgb(102\, 102\, 102)\; font-family: Roboto\, &quot\;Lucida Grande&quot\;\, arial\, sans-serif\; font-size: 14px\;"><span style="color:#000000\;"><span style="font-size:14px\;"><span style="font-family:arial\;">Dru will provide highlights of the organization&#39\;s work in 2019 and provide a glimpse into our plans for 2020. This meeting offers a unique opportunity for GGHI members and Grays Harbor residents to talk directly with the GGHI board and staff. Come learn how GGHI helps to build an economically vibrant community and have your questions answered.</span></span></span></p>\n
LOCATION:Rotary Log Pavilion 1401 Sargent Blvd Aberdeen\, WA
UID:e.26.12383
SEQUENCE:3
DTSTAMP:20260424T012440Z
URL:https://chamber.graysharbor.org/events/details/business-forum-lunch-12383
END:VEVENT

END:VCALENDAR
