BEGIN:VCALENDAR
VERSION:2.0
PRODID:-//ChamberMaster//Event Calendar 2.0//EN
METHOD:PUBLISH
X-PUBLISHED-TTL:P3D
REFRESH-INTERVAL:P3D
CALSCALE:GREGORIAN
BEGIN:VEVENT
DTSTART:20170523T183000Z
DTEND:20170523T200000Z
X-MICROSOFT-CDO-ALLDAYEVENT:FALSE
SUMMARY:Business Forum Lunch
DESCRIPTION:Music District Business Forum Lunch\n\n\n\nThe idea of an organized music scene in Aberdeen is gaining popularity as local community leaders have become familiar with another highly successful program in Fort Collins\, CO. This program\, facilitated by multiple partners\, would assist with the efforts to attract musicians to the Grays Harbor area\, while retaining our current emerging artists.\nLearn more about the Aberdeen Music District here:\n\nwww.thedailyworld.com/news/fort-collins-colo-music-district-seen-as-a-model-for-aberdeen-scene-the-alley/
X-ALT-DESC;FMTTYPE=text/html:<span style="font-size: 16px\;"><u><em><strong>Music District Business Forum Lunch</strong></em></u></span><br />\n<br />\nThe idea of an organized music scene in Aberdeen is gaining popularity as local community leaders have become familiar with another highly successful program in Fort Collins\, CO. This program\, facilitated by multiple partners\, would assist with the efforts to attract musicians to the Grays Harbor area\, while retaining our current emerging artists.\n<p>Learn more about the Aberdeen Music District here:</p>\n\n<p><a data-id="l-7639905893" href="http://www.thedailyworld.com/news/fort-collins-colo-music-district-seen-as-a-model-for-aberdeen-scene-the-alley/" rel="nofollow" target="_blank"><font color="#0066cc">www.thedailyworld.com/news/fort-collins-colo-music-district-seen-as-a-model-for-aberdeen-scene-the-alley/</font></a></p>\n
LOCATION:D&R Event Center 205 South I St. Aberdeen\, WA 98520
UID:e.26.7617
SEQUENCE:3
DTSTAMP:20260426T032735Z
URL:https://chamber.graysharbor.org/events/details/business-forum-lunch-7617
END:VEVENT

END:VCALENDAR
