BEGIN:VCALENDAR
VERSION:2.0
PRODID:-//ChamberMaster//Event Calendar 2.0//EN
METHOD:PUBLISH
X-PUBLISHED-TTL:P3D
REFRESH-INTERVAL:P3D
CALSCALE:GREGORIAN
BEGIN:VEVENT
DTSTART:20170627T183000Z
DTEND:20170627T200000Z
X-MICROSOFT-CDO-ALLDAYEVENT:FALSE
SUMMARY:Business Forum Lunch
DESCRIPTION:Leadership Grays Harbor - Class of 2017\n\n\nNetwork - Learn - Grow\n\nThe Leadership Grays Harbor program\, produced in partnership with Grays Harbor College and GGHI\, is nearing the end of the season. Join us as we recognize and honor the class of 2017! Each year\, Leadership Grays Harbor chooses a class project. The Class of 2017 chose to raise funds for the Museum of the North Beach in Moclips.
X-ALT-DESC;FMTTYPE=text/html:<span style="font-size: 16px\;"><u>Leadership Grays Harbor - Class of 2017</u></span>\n\n<div class="theme-p  theme-color-4" data-target="content">\n<p><strong>Network - Learn - Grow</strong></p>\n\n<p>The Leadership Grays Harbor program\, produced in partnership with Grays Harbor College and GGHI\, is nearing the end of the season. Join us as we recognize and honor the class of 2017! Each year\, Leadership Grays Harbor chooses a class project. The Class of 2017 chose to raise funds for the Museum of the North Beach in Moclips.</p>\n</div>\n
LOCATION:Grays Harbor Country Club 5300 Central Park Dr. Aberdeen\, WA
UID:e.26.7732
SEQUENCE:3
DTSTAMP:20260426T015327Z
URL:https://chamber.graysharbor.org/events/details/business-forum-lunch-7732
END:VEVENT

END:VCALENDAR
