BEGIN:VCALENDAR
VERSION:2.0
PRODID:-//ChamberMaster//Event Calendar 2.0//EN
METHOD:PUBLISH
X-PUBLISHED-TTL:P3D
REFRESH-INTERVAL:P3D
CALSCALE:GREGORIAN
BEGIN:VEVENT
DTSTART:20170822T183000Z
DTEND:20170822T200000Z
X-MICROSOFT-CDO-ALLDAYEVENT:FALSE
SUMMARY:Business Forum Lunch
DESCRIPTION:Grays Harbor Housing Program\n\nGrays Harbor County Public Health and Social Services (specifically the Housing Program) will be presenting about an exciting pilot project we are working on that will aim to serve 10 of our community's most vulnerable residents with intensive housing and employment support services.\n \n\nThe pilot project planning is underway with a variety of community stakeholders and will launch in January 2018. Nationally recognized consultants from Advocates for Human Potential are helping to facilitate the planning and system changes needed for the pilot project to be effective\, and are funded through our USDA RCDI grant.\n\nCost is $20 for members / $25 for non-members of Greater Grays Harbor\, Inc. (lunch is included).\n\nLeaders Circle members can send an attendee for free.e register for each individual attending from your organization.\n\nReservations are requested by Wednesday August 16th\, 2017. Please call 360-532-7888 to RSVP\, or simply RSVP online through the attached Smore flyer.\n\n\n\nFor more information visit www.healthygh.org/directory/housing
X-ALT-DESC;FMTTYPE=text/html:<h2 class="theme-p-title theme-color3" data-clicktarget="#" data-target="title">&nbsp\; &nbsp\; &nbsp\; &nbsp\; Grays Harbor Housing Program</h2>\n\n<div class="theme-p  theme-color-4" data-target="content">Grays Harbor County Public Health and Social Services (specifically the Housing Program) will be presenting about an exciting pilot project we are working on that will aim to serve 10 of our community&rsquo\;s most vulnerable residents with intensive housing and employment support services.\n<p>&nbsp\;</p>\n\n<p>The pilot project planning is underway with a variety of community stakeholders and will launch in January 2018. Nationally recognized consultants from Advocates for Human Potential are helping to facilitate the planning and system changes needed for the pilot project to be effective\, and are funded through our USDA RCDI grant.</p>\n\n<p>Cost is $20 for members / $25 for non-members of Greater Grays Harbor\, Inc. (lunch is included).</p>\n\n<p>Leaders Circle members can send an attendee for free.e register for each individual attending from your organization.</p>\n\n<p>Reservations are requested by Wednesday August&nbsp\;16th\, 2017. Please call 360-532-7888 to RSVP\, or simply RSVP online through the attached&nbsp\;Smore&nbsp\;flyer.<br />\n<br />\nFor more information visit <a data-id="l-4520854026" href="http://www.healthygh.org/directory/housing" o-href="http%3A%2F%2Fwww.healthygh.org%2Fdirectory%2Fhousing" rel="nofollow" target="_blank" track-href="https://www.smore.com/app/reporting/out/svmuy?u=http%253A%252F%252Fwww.healthygh.org%252Fdirectory%252Fhousing&amp\;t=www.healthygh.org%2Fdirectory%2Fhousing&amp\;w=w-2622775001&amp\;i=&amp\;l=l-4520854026">www.healthygh.org/directory/housing</a></p>\n</div>\n
LOCATION:Grays Harbor Country Club
UID:e.26.8056
SEQUENCE:3
DTSTAMP:20260425T230223Z
URL:https://chamber.graysharbor.org/events/details/business-forum-lunch-8056
END:VEVENT

END:VCALENDAR
