BEGIN:VCALENDAR
VERSION:2.0
PRODID:-//ChamberMaster//Event Calendar 2.0//EN
METHOD:PUBLISH
X-PUBLISHED-TTL:P3D
REFRESH-INTERVAL:P3D
CALSCALE:GREGORIAN
BEGIN:VEVENT
DTSTART:20170926T183000Z
DTEND:20170926T200000Z
X-MICROSOFT-CDO-ALLDAYEVENT:FALSE
SUMMARY:Business Forum Lunch
DESCRIPTION:The September Business Forum Lunch\, hosted by Greater Grays Harbor\, Inc. will cover the growing need and opportunity to power student success in STEM (Science\, Technology\, Engineering and Mathematics). GGHI is excited for this event's guest speaker\, Lee Lambert\, WA State STEM Network Director\, to be headlining the event (learn more about his career with STEM here: http://www.washingtonstem.org/About/Team/Lee-Lambert#.WZ4MZ4TyvIU \n\n\n\nThe STEM topic is especially important today as there will be a staggering (740\,000) STEM jobs in WA State in the next 5 years.\n\n\n\nCost is $20 for members / $25 for non-members of Greater Grays Harbor\, Inc. (lunch is included). Leaders Circle members can send an attendee for free.\n\n\n\nReservations are required by Wednesday\, September 20th\, 2017. Please call 360-532-7888 to RSVP\, or RSVP online through the attached Smore flyer under the 'Tickets' section. Please register for each individual attending from your organization.\n\n\n\nVisit the STEM website to learn more: http://www.washingtonstem.org/\n\n\n\n	Networking
X-ALT-DESC;FMTTYPE=text/html:<div class="_2qgs" style="color: rgb(75\, 79\, 86)\; padding: 12px\; position: relative\; border-top: none\; font-family: Helvetica\, Arial\, sans-serif\; font-size: 12px\;"><span class="_4n-j _3cht fsl" data-testid="event-permalink-details" style="font-size: 14px\; font-family: inherit\;">The September Business Forum Lunch\, hosted by Greater Grays Harbor\, Inc. will cover the growing need and opportunity to power student success in STEM (Science\, Technology\, Engineering and Mathematics). GGHI is excited for this event&#39\;s guest speaker\, Lee Lambert\, WA State STEM Network Director\, to be headlining the event (learn more about his career with STEM here:&nbsp\;<a href="http://www.washingtonstem.org/About/Team/Lee-Lambert#.WZ4MZ4TyvIU" rel="nofollow noopener nofollow" style="color: rgb(54\, 88\, 153)\; cursor: pointer\; text-decoration-line: none\; font-family: inherit\;" target="_blank"><span style="font-family: inherit\;">http://</span><wbr /><span style="font-family: inherit\;">www.washingtonstem.org/</span><wbr /><span style="font-family: inherit\;">About/Team/</span><wbr />Lee-Lambert#.WZ4MZ4TyvIU</a>&nbsp\;<br />\n<br />\nThe STEM topic is especially important today as there will be a staggering (740\,000) STEM jobs in WA State in the next 5 years.<br />\n<br />\nCost is $20 for members / $25 for non-members of Greater Grays Harbor\, Inc. (lunch is included). Leaders Circle members can send an attendee for free.<br />\n<br />\nReservations are required by Wednesday\, September 20th\, 2017. Please call 360-532-7888 to RSVP\, or RSVP online through the attached Smore flyer under the &#39\;Tickets&#39\; section. Please register for each individual attending from your organization.<br />\n<br />\nVisit the STEM website to learn more:&nbsp\;<a href="http://www.washingtonstem.org/" rel="nofollow noopener nofollow" style="color: rgb(54\, 88\, 153)\; cursor: pointer\; text-decoration-line: none\; font-family: inherit\;" target="_blank"><span style="font-family: inherit\;">http://</span><wbr />www.washingtonstem.org/</a></span></div>\n\n<div class="_1r51" style="line-height: 24px\; margin: 4px 12px 12px\; min-height: 24px\; font-family: Helvetica\, Arial\, sans-serif\; color: rgb(29\, 33\, 41)\; font-size: 12px\;">\n<ul class="uiList uiCollapsedList uiCollapsedListHidden _509- _4ki" id="u_jsonp_2_12" style="list-style-type: none\; margin: 0px\; padding: 0px\;">\n	<li style="border-width: 0px\; display: inline-block\; vertical-align: top\;"><a href="https://www.facebook.com/events/discovery/?acontext=%7B%22source%22%3A1%2C%22page_id_source%22%3A102743356510389%2C%22action_history%22%3A%22%5B%7B%5C%22surface%5C%22%3A%5C%22page%5C%22%2C%5C%22mechanism%5C%22%3A%5C%22main_list%5C%22%2C%5C%22extra_data%5C%22%3A%5C%22%7B%5C%5C%5C%22page_id%5C%5C%5C%22%3A102743356510389%2C%5C%5C%5C%22tour_id%5C%5C%5C%22%3Anull%7D%5C%22%7D%2C%7B%5C%22surface%5C%22%3A%5C%22permalink%5C%22%2C%5C%22mechanism%5C%22%3A%5C%22surface%5C%22%2C%5C%22extra_data%5C%22%3A%5B%5D%7D%2C%7B%5C%22surface%5C%22%3A%5C%22permalink%5C%22%2C%5C%22mechanism%5C%22%3A%5C%22event_information%5C%22%2C%5C%22extra_data%5C%22%3A%7B%5C%22tag%5C%22%3A%5C%22Networking%5C%22%7D%7D%5D%22%2C%22has_source%22%3Atrue%7D&amp\;suggestion_token=%7B%22event_categories%22%3A%5B1915104302042536%5D%7D" style="color: rgb(54\, 88\, 153)\; cursor: pointer\; text-decoration-line: none\; font-family: inherit\;"><span class="_47od" style="background-color: rgb(237\, 242\, 250)\; border-radius: 2px\; color: rgb(32\, 55\, 95)\; display: block\; height: 14px\; line-height: 14px\; margin: 0px 4px 4px 0px\; padding: 4px 6px\; position: relative\; font-family: inherit\;">Networking</span></a></li>\n</ul>\n</div>\n
LOCATION:Grays Harbor Country Club Aberdeen\, WA 98520
UID:e.26.8173
SEQUENCE:3
DTSTAMP:20260425T213746Z
URL:https://chamber.graysharbor.org/events/details/business-forum-lunch-8173
END:VEVENT

END:VCALENDAR
