BEGIN:VCALENDAR
VERSION:2.0
PRODID:-//ChamberMaster//Event Calendar 2.0//EN
METHOD:PUBLISH
X-PUBLISHED-TTL:P3D
REFRESH-INTERVAL:P3D
CALSCALE:GREGORIAN
BEGIN:VEVENT
DTSTART:20171024T183000Z
DTEND:20171024T200000Z
X-MICROSOFT-CDO-ALLDAYEVENT:FALSE
SUMMARY:Business Forum Lunch
DESCRIPTION:A Special Presentation from the Washington State Attorney General\n\n\nGreater Grays Harbor\, Inc. will be welcoming Washington State Attorney General Bob Ferguson to headline the October Business Forum Lunch.\n\n \n\n \n\nAttorney General Ferguson will share updates on his recent work to defend Washington State's marijuana law\, protect consumers from unscrupulous companies\, and address the opioid epidemic in Washington. Additionally\, he will be talking about where Washington stands on funding the McCleary decision   a State Supreme Court Case requiring the Legislator to fund basic education.\n\n \n\nThe cost is $20 for GGHI members / $25 for non-members (lunch is included). Leaders Circle members can send an attendee for free.\n\n \n\nReservations are requested by Wednesday\, October 18th\, 2017. Please call 360-532-7888 to RSVP. Please register for each individual attending from your organization.
X-ALT-DESC;FMTTYPE=text/html:<h2 class="theme-p-title theme-color3" data-clicktarget="#" data-target="title" style="margin: 0px\; padding: 5px 0px 10px\; font-size: 22px\; font-weight: 400\; line-height: 1em\; word-wrap: break-word\; color: rgb(34\, 34\, 34)\; font-family: sm_cheltenham-ni\, Helvetica\, Arial\, sans-serif\; background-color: rgb(255\, 255\, 255)\;">A Special Presentation from the Washington State Attorney General</h2>\n\n<div class="theme-p  theme-color-4" data-target="content" style="margin: 0px\; padding: 0px 0px 12px\; font-family: &quot\;Open Sans&quot\;\, &quot\;Lucida Grande&quot\;\, arial\, sans-serif\; line-height: 1.55\; font-size: 14px\; word-wrap: break-word\; color: rgb(102\, 102\, 102)\; background-color: rgb(255\, 255\, 255)\;">\n<p style="margin: 0px\; padding: 0px\;">Greater Grays Harbor\, Inc. will be welcoming Washington State Attorney General Bob Ferguson to headline the October Business Forum Lunch.</p>\n\n<p style="margin: 0px\; padding: 0px\;">&nbsp\;</p>\n\n<p style="margin: 0px\; padding: 0px\;">&nbsp\;</p>\n\n<p style="margin: 0px\; padding: 0px\;">Attorney General Ferguson will share updates on his recent work to defend Washington State&rsquo\;s marijuana law\, protect consumers from unscrupulous companies\, and address the opioid epidemic in Washington. Additionally\, he will be talking about where Washington stands on funding the McCleary decision &ndash\; a State Supreme Court Case requiring the Legislator to fund basic education.</p>\n\n<p style="margin: 0px\; padding: 0px\;">&nbsp\;</p>\n\n<p style="margin: 0px\; padding: 0px\;">The cost is $20 for GGHI members / $25 for non-members (lunch is included). Leaders Circle members can send an attendee for free.</p>\n\n<p style="margin: 0px\; padding: 0px\;">&nbsp\;</p>\n\n<p style="margin: 0px\; padding: 0px\;">Reservations are requested by<em style="font-weight: inherit\;">&nbsp\;Wednesday\, October 18th\, 2017</em>. Please call 360-532-7888 to RSVP. Please register for each individual attending from your organization.</p>\n</div>\n
LOCATION:Grays Harbor Country Club Aberdeen\, WA
UID:e.26.8223
SEQUENCE:3
DTSTAMP:20260425T195604Z
URL:https://chamber.graysharbor.org/events/details/business-forum-lunch-8223
END:VEVENT

END:VCALENDAR
