BEGIN:VCALENDAR
VERSION:2.0
PRODID:-//ChamberMaster//Event Calendar 2.0//EN
METHOD:PUBLISH
X-PUBLISHED-TTL:P3D
REFRESH-INTERVAL:P3D
CALSCALE:GREGORIAN
BEGIN:VEVENT
DTSTART:20171205T193000Z
DTEND:20171205T210000Z
X-MICROSOFT-CDO-ALLDAYEVENT:FALSE
SUMMARY:Business Forum Lunch
DESCRIPTION:On January 1\, 2018 the paid safe and sick leave requirements of Initiative 1433 become effective. Every employer with hourly employees must comply with the new law. As the deadline quickly\, approaches are you prepared? \n\n\n\nJoin Greater Grays Harbor\, Inc. & Bob Battles\, Government Affairs Director\, and General Counsel for AWB (Association of Washington Business) to learn about what every employer should know about the I-1433 Paid Safe and Sick Leave requirements. This special Business Forum will provide an overview of the new paid safe and sick leave law\, including the rules being developed by L&I and what you as an employer need to do before and after January 1\, 2018\, to comply with the new requirements.\n \n\n \n\nThe cost is $20 for GGHI members / $25 for non-members (lunch is included). Leaders Circle members can send an attendee for free.\n\n \n\nReservations are requested by Wednesday\, November 29th\, 2017. Please call (360) 532-7888 to RSVP\, or simply RSVP online through this Smore flyer. Please register for each individual attending from your organization.
X-ALT-DESC;FMTTYPE=text/html:<span style="color: rgb(85\, 85\, 85)\; font-family: &quot\;Open Sans&quot\;\, &quot\;Lucida Grande&quot\;\, arial\, sans-serif\; font-size: 15px\; background-color: rgb(255\, 255\, 255)\;">On January 1\, 2018 the paid safe and sick leave requirements of Initiative 1433 become effective. Every employer with hourly employees must comply with the new law. As the deadline quickly\, approaches are you prepared?&nbsp\;</span><br style="color: rgb(85\, 85\, 85)\; font-family: &quot\;Open Sans&quot\;\, &quot\;Lucida Grande&quot\;\, arial\, sans-serif\; font-size: 15px\; background-color: rgb(255\, 255\, 255)\;" />\n<br style="color: rgb(85\, 85\, 85)\; font-family: &quot\;Open Sans&quot\;\, &quot\;Lucida Grande&quot\;\, arial\, sans-serif\; font-size: 15px\; background-color: rgb(255\, 255\, 255)\;" />\n<span style="color: rgb(85\, 85\, 85)\; font-family: &quot\;Open Sans&quot\;\, &quot\;Lucida Grande&quot\;\, arial\, sans-serif\; font-size: 15px\; background-color: rgb(255\, 255\, 255)\;">Join Greater Grays Harbor\, Inc. &amp\; Bob Battles\, Government Affairs Director\, and General Counsel for AWB (Association of Washington Business) to learn about what every employer should know about the I-1433 Paid Safe and Sick Leave requirements. This special Business Forum will provide an overview of the new paid safe and sick leave law\, including the rules being developed by L&amp\;I and what you as an employer need to do before and after January 1\, 2018\, to comply with the new requirements.</span>\n<p style="margin: 0px\; padding: 0px\; color: rgb(85\, 85\, 85)\; font-family: &quot\;Open Sans&quot\;\, &quot\;Lucida Grande&quot\;\, arial\, sans-serif\; font-size: 15px\; background-color: rgb(255\, 255\, 255)\;">&nbsp\;</p>\n\n<p style="margin: 0px\; padding: 0px\; color: rgb(85\, 85\, 85)\; font-family: &quot\;Open Sans&quot\;\, &quot\;Lucida Grande&quot\;\, arial\, sans-serif\; font-size: 15px\; background-color: rgb(255\, 255\, 255)\;">&nbsp\;</p>\n\n<p style="margin: 0px\; padding: 0px\; color: rgb(85\, 85\, 85)\; font-family: &quot\;Open Sans&quot\;\, &quot\;Lucida Grande&quot\;\, arial\, sans-serif\; font-size: 15px\; background-color: rgb(255\, 255\, 255)\;">The cost is $20 for GGHI members / $25 for non-members (lunch is included). Leaders Circle members can send an attendee for free.</p>\n\n<p style="margin: 0px\; padding: 0px\; color: rgb(85\, 85\, 85)\; font-family: &quot\;Open Sans&quot\;\, &quot\;Lucida Grande&quot\;\, arial\, sans-serif\; font-size: 15px\; background-color: rgb(255\, 255\, 255)\;">&nbsp\;</p>\n\n<p style="margin: 0px\; padding: 0px\; color: rgb(85\, 85\, 85)\; font-family: &quot\;Open Sans&quot\;\, &quot\;Lucida Grande&quot\;\, arial\, sans-serif\; font-size: 15px\; background-color: rgb(255\, 255\, 255)\;">Reservations are requested by<em style="font-weight: inherit\;">&nbsp\;Wednesday\, November 29th\, 2017</em>. Please call (360) 532-7888 to RSVP\, or simply RSVP online through this Smore flyer. Please register for each individual attending from your organization.</p>\n
LOCATION:Grays Harbor Country Club Aberdeen\, WA
UID:e.26.8338
SEQUENCE:3
DTSTAMP:20260425T163711Z
URL:https://chamber.graysharbor.org/events/details/business-forum-lunch-8338
END:VEVENT

END:VCALENDAR
