BEGIN:VCALENDAR
VERSION:2.0
PRODID:-//ChamberMaster//Event Calendar 2.0//EN
METHOD:PUBLISH
X-PUBLISHED-TTL:P3D
REFRESH-INTERVAL:P3D
CALSCALE:GREGORIAN
BEGIN:VEVENT
DTSTART:20180327T183000Z
DTEND:20180327T200000Z
X-MICROSOFT-CDO-ALLDAYEVENT:FALSE
SUMMARY:Business Forum Lunch
DESCRIPTION:LEARN HOW TO ATTRACT AND RETAIN TOP TALENT IN GRAYS HARBOR\n\nDuring and after the Great Recession\, employers could be picky about who they hired because unemployment was high and job openings were scarce.\n\n\n\nToday\, that is no longer the case. According to the Labor Department\, there were 5.8 million job openings in the U.S. in December\, unemployment is the lowest it has been since 2007 and employers are ready to hire.\n\n\n\nHow can employers recruit and retain their talent? Join Greater Grays Harbor on March 27th to learn how you can attract and retain the talent needed in order for your business to succeed.\n\n\n\nKey topics will include:\n\n- Best practices from employers who are retaining top talent\n\n- Upskilling\n\n- Training\n\n- Mentoring\n\n- How to diversify your workforce\n\n- Why investing in workforce development today is beneficial for the future\n\n\n\nReservations are requested by Wednesday\, March 21st\, 2018. Please call (360) 532-7888 to RSVP\, or RSVP online through the 'Tickets' section. Please register for each individual attending from your organization. The cost is $20 for GGHI members / $25 for non-members (lunch is included). Leaders Circle members can send an attendee for free.
X-ALT-DESC;FMTTYPE=text/html:<span style="color: rgb(75\, 79\, 86)\; font-family: Helvetica\, Arial\, sans-serif\; font-size: 14px\; background-color: rgb(255\, 255\, 255)\;">LEARN HOW TO ATTRACT AND RETAIN TOP TALENT IN GRAYS HARBOR</span><br style="color: rgb(75\, 79\, 86)\; font-family: Helvetica\, Arial\, sans-serif\; font-size: 14px\; background-color: rgb(255\, 255\, 255)\;" />\n<span style="color: rgb(75\, 79\, 86)\; font-family: Helvetica\, Arial\, sans-serif\; font-size: 14px\; background-color: rgb(255\, 255\, 255)\;">During and after the Great Recession\, employers could be picky about who they hired because unemployment was high and job openings were scarce.</span><br style="color: rgb(75\, 79\, 86)\; font-family: Helvetica\, Arial\, sans-serif\; font-size: 14px\; background-color: rgb(255\, 255\, 255)\;" />\n<br style="color: rgb(75\, 79\, 86)\; font-family: Helvetica\, Arial\, sans-serif\; font-size: 14px\; background-color: rgb(255\, 255\, 255)\;" />\n<span style="color: rgb(75\, 79\, 86)\; font-family: Helvetica\, Arial\, sans-serif\; font-size: 14px\; background-color: rgb(255\, 255\, 255)\;">Today\, that is no longer the case. According to the Labor Department\, there were 5.8 million job openings in the U.S. in December\, unemployment is the lowest it has been since 2007 and employers are ready to hire.</span><br style="color: rgb(75\, 79\, 86)\; font-family: Helvetica\, Arial\, sans-serif\; font-size: 14px\; background-color: rgb(255\, 255\, 255)\;" />\n<br style="color: rgb(75\, 79\, 86)\; font-family: Helvetica\, Arial\, sans-serif\; font-size: 14px\; background-color: rgb(255\, 255\, 255)\;" />\n<span style="color: rgb(75\, 79\, 86)\; font-family: Helvetica\, Arial\, sans-serif\; font-size: 14px\; background-color: rgb(255\, 255\, 255)\;">How can employers recruit and retain their talent? Join Greater Grays Harbor on March 27th to learn how you can attract and retain the talent needed in order for your business to succeed.</span><br style="color: rgb(75\, 79\, 86)\; font-family: Helvetica\, Arial\, sans-serif\; font-size: 14px\; background-color: rgb(255\, 255\, 255)\;" />\n<br style="color: rgb(75\, 79\, 86)\; font-family: Helvetica\, Arial\, sans-serif\; font-size: 14px\; background-color: rgb(255\, 255\, 255)\;" />\n<span style="color: rgb(75\, 79\, 86)\; font-family: Helvetica\, Arial\, sans-serif\; font-size: 14px\; background-color: rgb(255\, 255\, 255)\;">Key topics will include:</span><br style="color: rgb(75\, 79\, 86)\; font-family: Helvetica\, Arial\, sans-serif\; font-size: 14px\; background-color: rgb(255\, 255\, 255)\;" />\n<span style="color: rgb(75\, 79\, 86)\; font-family: Helvetica\, Arial\, sans-serif\; font-size: 14px\; background-color: rgb(255\, 255\, 255)\;">- Best practices from employers who are retaining top talent</span><br style="color: rgb(75\, 79\, 86)\; font-family: Helvetica\, Arial\, sans-serif\; font-size: 14px\; background-color: rgb(255\, 255\, 255)\;" />\n<span style="color: rgb(75\, 79\, 86)\; font-family: Helvetica\, Arial\, sans-serif\; font-size: 14px\; background-color: rgb(255\, 255\, 255)\;">- Upskilling</span><br style="color: rgb(75\, 79\, 86)\; font-family: Helvetica\, Arial\, sans-serif\; font-size: 14px\; background-color: rgb(255\, 255\, 255)\;" />\n<span style="color: rgb(75\, 79\, 86)\; font-family: Helvetica\, Arial\, sans-serif\; font-size: 14px\; background-color: rgb(255\, 255\, 255)\;">- Training</span><br style="color: rgb(75\, 79\, 86)\; font-family: Helvetica\, Arial\, sans-serif\; font-size: 14px\; background-color: rgb(255\, 255\, 255)\;" />\n<span style="color: rgb(75\, 79\, 86)\; font-family: Helvetica\, Arial\, sans-serif\; font-size: 14px\; background-color: rgb(255\, 255\, 255)\;">-&nbsp\;</span><span class="text_exposed_show" style="display: inline\; font-family: Helvetica\, Arial\, sans-serif\; color: rgb(75\, 79\, 86)\; font-size: 14px\; background-color: rgb(255\, 255\, 255)\;">Mentoring<br />\n- How to diversify your workforce<br />\n- Why investing in workforce development today is beneficial for the future<br />\n<br />\nReservations are requested by Wednesday\, March 21st\, 2018. Please call (360) 532-7888 to RSVP\, or RSVP online through the &#39\;Tickets&#39\; section. Please register for each individual attending from your organization. The cost is $20 for GGHI members / $25 for non-members (lunch is included). Leaders Circle members can send an attendee for free.</span>
LOCATION:Grays Harbor Country Club
UID:e.26.9544
SEQUENCE:3
DTSTAMP:20260425T114352Z
URL:https://chamber.graysharbor.org/events/details/business-forum-lunch-9544
END:VEVENT

END:VCALENDAR
